BEGIN:VCALENDAR
VERSION:2.0
PRODID:-//Rellinger Turnverein - ECPv5.9.1//NONSGML v1.0//EN
CALSCALE:GREGORIAN
METHOD:PUBLISH
X-WR-CALNAME:Rellinger Turnverein
X-ORIGINAL-URL:https://rellinger-turnverein.de
X-WR-CALDESC:Events for Rellinger Turnverein
BEGIN:VTIMEZONE
TZID:Europe/Berlin
BEGIN:DAYLIGHT
TZOFFSETFROM:+0100
TZOFFSETTO:+0200
TZNAME:CEST
DTSTART:20250330T010000
END:DAYLIGHT
BEGIN:STANDARD
TZOFFSETFROM:+0200
TZOFFSETTO:+0100
TZNAME:CET
DTSTART:20251026T010000
END:STANDARD
END:VTIMEZONE
BEGIN:VEVENT
DTSTART;VALUE=DATE:20250927
DTEND;VALUE=DATE:20250928
DTSTAMP:20260421T160720
CREATED:20241104T112414Z
LAST-MODIFIED:20250907T072854Z
UID:15397-1758931200-1759017599@rellinger-turnverein.de
SUMMARY:125 Jahre RTV - Familien-Olympiade
DESCRIPTION:125 Jahre RTV – Familien-Olympiade \nDer Rellinger Turnverein feiert in diesem Jahr ein ganz besonderes Jubiläum: 125 Jahre RTV! Und was passt da besser\, als gemeinsam zu spielen\, zu lachen und Sport zu treiben? Deshalb laden wir euch herzlich ein zur großen Familien-Olympiade am Samstag\, den 27. September 2025\, auf dem Sportplatz am Ellerbeker Weg. \nAn diesem Tag heißt es: Mitmachen statt nur Zuschauen! Ob jung oder alt\, sportlich oder einfach neugierig\, die Familien-Olympiade ist ein tolles Event für alle Generationen. Unsere verschiedenen RTV-Abteilungen haben sich spannende Stationen ausgedacht\, an denen Geschick\, Teamgeist und Bewegung im Vordergrund stehen. So könnt ihr euch in ganz unterschiedlichen Bereichen ausprobieren und vielleicht sogar neue Sportarten entdecken. \nDamit ihr den Überblick behaltet\, gibt es für alle Teilnehmer eine Laufkarte. Diese könnt ihr am Infoschalter abholen\, der links neben dem Rellinger Rathaus am kleinen Weg zum Sportplatz aufgebaut ist. Mit der Karte in der Hand geht es dann von Station zu Station. Und keine Sorge: Hier geht es nicht um Höchstleistungen oder Bestzeiten\, sondern darum\, gemeinsam Spaß zu haben und etwas auszuprobieren. \nDas Beste kommt zum Schluss: Wer alle Stationen absolviert hat\, darf sich über eine Urkunde freuen\, ein schönes Andenken an einen sportlichen und fröhlichen Tag mit Familie\, Freunden und dem ganzen Verein. \nDie Familien-Olympiade ist mehr als nur ein Sportfest\, sie ist ein Treffpunkt für alle\, die Lust auf Bewegung\, Gemeinschaft und gute Laune haben. Wir freuen uns auf lachende Gesichter\, sportliche Erlebnisse und viele fröhliche Momente. \nAlso: Merkt euch den 27. September 2025\, packt eure Familie ein und kommt vorbei! Der RTV freut sich darauf\, diesen besonderen Tag mit euch zu feiern. \n\n\n\n\n 
URL:https://rellinger-turnverein.de/termin/125-jahre-rtv-familien-olympiade/
LOCATION:Sportplatz Ellerbeker Weg\, Ellerbeker Weg 6\, Rellingen\, Schleswig-Holstein\, 25462\, Deutschland
ORGANIZER;CN="Rellinger%20Turnverein%20von%201900%20e.V.":MAILTO:info@rellinger-turnverein.de
END:VEVENT
END:VCALENDAR