BEGIN:VCALENDAR
VERSION:2.0
PRODID:-//Rellinger Turnverein - ECPv5.9.1//NONSGML v1.0//EN
CALSCALE:GREGORIAN
METHOD:PUBLISH
X-WR-CALNAME:Rellinger Turnverein
X-ORIGINAL-URL:https://rellinger-turnverein.de
X-WR-CALDESC:Events for Rellinger Turnverein
BEGIN:VTIMEZONE
TZID:Europe/Berlin
BEGIN:DAYLIGHT
TZOFFSETFROM:+0100
TZOFFSETTO:+0200
TZNAME:CEST
DTSTART:20230326T010000
END:DAYLIGHT
BEGIN:STANDARD
TZOFFSETFROM:+0200
TZOFFSETTO:+0100
TZNAME:CET
DTSTART:20231029T010000
END:STANDARD
END:VTIMEZONE
BEGIN:VEVENT
DTSTART;VALUE=DATE:20230901
DTEND;VALUE=DATE:20230902
DTSTAMP:20260423T101821
CREATED:20230726T151731Z
LAST-MODIFIED:20230726T151731Z
UID:13525-1693526400-1693612799@rellinger-turnverein.de
SUMMARY:Neue Öffnungszeiten
DESCRIPTION:Ab dem 01. September 2023 hat unsere Geschäftsstelle neue Öffnungszeiten. Montag\, Dienstag\, Mittwoch und Freitag von 9.00 bis 12.00 Uhr\, sowie am Montag von 14.00 bis 17.00 Uhr. Am Donnerstag und Wochenende bleibt unsere Geschäftsstelle geschlossen. Unsere aktuellen Öffnungszeiten könnt ihr unserer Homepage entnehmen. Natürlich könnt ihr eure Anliegen auch jederzeit per E-Mail an uns senden: info@rellinger-turnverein.de\n\n\n 
URL:https://rellinger-turnverein.de/termin/neue-oeffnungszeiten/
LOCATION:Schleswig-Holstein
ATTACH;FMTTYPE=image/jpeg:https://rellinger-turnverein.de/wp-content/uploads/2023/07/475-333-buero.jpg
ORGANIZER;CN="Rellinger%20Turnverein%20von%201900%20e.V.":MAILTO:info@rellinger-turnverein.de
END:VEVENT
BEGIN:VEVENT
DTSTART;TZID=Europe/Berlin:20230909T130000
DTEND;TZID=Europe/Berlin:20230909T150000
DTSTAMP:20260423T101821
CREATED:20230420T082018Z
LAST-MODIFIED:20230909T080932Z
UID:13227-1694264400-1694271600@rellinger-turnverein.de
SUMMARY:Dorflauf & Storchenlauf
DESCRIPTION:Am 09. September finder der Dorflauf & Storchenlauf in Tangstedt statt.
URL:https://rellinger-turnverein.de/termin/dorflauf-storchenlauf/
LOCATION:Schleswig-Holstein
ATTACH;FMTTYPE=image/png:https://rellinger-turnverein.de/wp-content/uploads/2023/04/laufen01.png
END:VEVENT
BEGIN:VEVENT
DTSTART;TZID=Europe/Berlin:20230923T143000
DTEND;TZID=Europe/Berlin:20230923T150000
DTSTAMP:20260423T101821
CREATED:20230909T082101Z
LAST-MODIFIED:20230909T082328Z
UID:13688-1695479400-1695481200@rellinger-turnverein.de
SUMMARY:Apfelfest: Auftritt Kindertanz
DESCRIPTION:Zusammen  mit einigen Kindern aus der WABE (Kooperation Kita) und aus den Kinderturn- und Tanzgruppen unserer Trainerin Simone\, gibt es am 23. September 2023 um 14.30 Uhr einen kleinen Auftritt auf dem Apfelfest.
URL:https://rellinger-turnverein.de/termin/apfelfest-auftritt-kindertanz/
LOCATION:Arkadenhof Rellingen\, Am Rathausplatz\, Rellingen\, Schleswig-Holstein\, 25462\, Deutschland
ATTACH;FMTTYPE=image/jpeg:https://rellinger-turnverein.de/wp-content/uploads/2023/09/apfelfest.jpg
END:VEVENT
BEGIN:VEVENT
DTSTART;TZID=Europe/Berlin:20230924T120000
DTEND;TZID=Europe/Berlin:20230924T143000
DTSTAMP:20260423T101821
CREATED:20230420T082153Z
LAST-MODIFIED:20230909T082351Z
UID:13229-1695556800-1695565800@rellinger-turnverein.de
SUMMARY:9. Rellinger Familienlauf
DESCRIPTION:Am 24. September findet der 9. Rellinger Familienlauf statt. \n++ NEU ++\nRTV Kinderlauf am 24. September 2023 um 13.00 Uhr\, 800 m\nStart Hauptstraße 64 VR Bank – Friedenstr – Hohle Str – Bergstraße – Hauptstraße 64 Ziel \nAb Jahrgang 2014 \nAnmeldung bis 12.30 Uhr auf dem Arkadenhof. Kosten pro Kind 4 € inklusive Medaille und Urkunde.
URL:https://rellinger-turnverein.de/termin/9-rellinger-familienlauf/
LOCATION:Schleswig-Holstein
ATTACH;FMTTYPE=image/png:https://rellinger-turnverein.de/wp-content/uploads/2023/07/laufen01.png
END:VEVENT
END:VCALENDAR