BEGIN:VCALENDAR
VERSION:2.0
PRODID:-//Rellinger Turnverein - ECPv5.9.1//NONSGML v1.0//EN
CALSCALE:GREGORIAN
METHOD:PUBLISH
X-WR-CALNAME:Rellinger Turnverein
X-ORIGINAL-URL:https://rellinger-turnverein.de
X-WR-CALDESC:Events for Rellinger Turnverein
BEGIN:VTIMEZONE
TZID:Europe/Berlin
BEGIN:DAYLIGHT
TZOFFSETFROM:+0100
TZOFFSETTO:+0200
TZNAME:CEST
DTSTART:20230326T010000
END:DAYLIGHT
BEGIN:STANDARD
TZOFFSETFROM:+0200
TZOFFSETTO:+0100
TZNAME:CET
DTSTART:20231029T010000
END:STANDARD
END:VTIMEZONE
BEGIN:VEVENT
DTSTART;TZID=Europe/Berlin:20230324T150000
DTEND;TZID=Europe/Berlin:20230324T170000
DTSTAMP:20260423T013833
CREATED:20230203T154957Z
LAST-MODIFIED:20230203T154957Z
UID:12583-1679670000-1679677200@rellinger-turnverein.de
SUMMARY:Ostercafe
DESCRIPTION:Information zum Ostercafe: Rita Nickel\, Tel. 04101 25291
URL:https://rellinger-turnverein.de/termin/ostercafe/
LOCATION:Festsaal im RTV-Turnerheim\, Hohle Straße 14\, Rellingen\, Schleswig-Holstein\, 25462\, Deutschland
ATTACH;FMTTYPE=image/jpeg:https://rellinger-turnverein.de/wp-content/uploads/2023/01/ostercafesenioren.jpg
ORGANIZER;CN="Rellinger%20Turnverein%20von%201900%20e.V.":MAILTO:info@rellinger-turnverein.de
END:VEVENT
END:VCALENDAR