BEGIN:VCALENDAR
VERSION:2.0
PRODID:-//Rellinger Turnverein - ECPv5.9.1//NONSGML v1.0//EN
CALSCALE:GREGORIAN
METHOD:PUBLISH
X-WR-CALNAME:Rellinger Turnverein
X-ORIGINAL-URL:https://rellinger-turnverein.de
X-WR-CALDESC:Events for Rellinger Turnverein
BEGIN:VTIMEZONE
TZID:Europe/Berlin
BEGIN:DAYLIGHT
TZOFFSETFROM:+0100
TZOFFSETTO:+0200
TZNAME:CEST
DTSTART:20230326T010000
END:DAYLIGHT
BEGIN:STANDARD
TZOFFSETFROM:+0200
TZOFFSETTO:+0100
TZNAME:CET
DTSTART:20231029T010000
END:STANDARD
END:VTIMEZONE
BEGIN:VEVENT
DTSTART;VALUE=DATE:20230212
DTEND;VALUE=DATE:20230213
DTSTAMP:20260423T000459
CREATED:20230116T092550Z
LAST-MODIFIED:20230211T085135Z
UID:12376-1676160000-1676246399@rellinger-turnverein.de
SUMMARY:Kinderfasching
DESCRIPTION:Am 12. Februar 2023 lädt das RTV-Faschingsteam Kinder im Alter von 4 – 7 Jahren (Schulbeginn) zum tanzen\, toben und zu kleinen Spielen ein. Da die Teilnehmerzahl begrenzt ist\, ist eine vorherige Anmeldung unbedingt erforderlich. Die Anmeldung ist noch keine Bestätigung für die Teilnahme. Das Faschingsteam wird sich separat mit einer Bestätigungsmail melden\, wenn ihr einen Platz erhalten habt. \nDie Veranstaltung ist ohne Begleitung. Bitte meldet eure Kinder nur an\, wenn diese auch allein vor Ort bleiben. Die Kinder sollten neben einem tollen Kostüm auch Turnschläppchen oder Stoppersocken\, sowie eine Trinkflasche mitbringen. \nDie vollständige Anmeldung bitte an simone.hille@hotmail.com unter Angabe von Vor- und Nachnamen des Kindes\, Geburtsdatum\, einer Notfalltelefonnummer und Name des Trainers bis spätestens 09. Februar 2023 (Anmeldeschluss). \nDie Veranstaltung ist kostenlos\, wir freuen uns jedoch über eine kleine Spende in unser Sparschwein.
URL:https://rellinger-turnverein.de/termin/kinderfasching/
LOCATION:Schleswig-Holstein
ATTACH;FMTTYPE=image/jpeg:https://rellinger-turnverein.de/wp-content/uploads/2022/03/fasching-mittel.jpg
ORGANIZER;CN="Rellinger%20Turnverein%20von%201900%20e.V.":MAILTO:info@rellinger-turnverein.de
END:VEVENT
BEGIN:VEVENT
DTSTART;TZID=Europe/Berlin:20230222T190000
DTEND;TZID=Europe/Berlin:20230222T210000
DTSTAMP:20260423T000459
CREATED:20230119T122513Z
LAST-MODIFIED:20230119T123937Z
UID:12397-1677092400-1677099600@rellinger-turnverein.de
SUMMARY:Beiratssitzung
DESCRIPTION:Wir laden alle Mitglieder des Beirates zur Sitzung im RTV-Turnerheim ein.
URL:https://rellinger-turnverein.de/termin/beiratssitzung-5/
LOCATION:Gaststube im RTV-Turnerheim\, Hohle Straße 14\, Rellingen\, Schleswig-Holstein\, 25462\, Deutschland
ATTACH;FMTTYPE=image/jpeg:https://rellinger-turnverein.de/wp-content/uploads/2023/01/sitzungen.jpg
ORGANIZER;CN="Rellinger%20Turnverein%20von%201900%20e.V.":MAILTO:info@rellinger-turnverein.de
END:VEVENT
END:VCALENDAR