BEGIN:VCALENDAR
VERSION:2.0
PRODID:-//Rellinger Turnverein - ECPv5.9.1//NONSGML v1.0//EN
CALSCALE:GREGORIAN
METHOD:PUBLISH
X-WR-CALNAME:Rellinger Turnverein
X-ORIGINAL-URL:https://rellinger-turnverein.de
X-WR-CALDESC:Events for Rellinger Turnverein
BEGIN:VTIMEZONE
TZID:Europe/Berlin
BEGIN:DAYLIGHT
TZOFFSETFROM:+0100
TZOFFSETTO:+0200
TZNAME:CEST
DTSTART:20220327T010000
END:DAYLIGHT
BEGIN:STANDARD
TZOFFSETFROM:+0200
TZOFFSETTO:+0100
TZNAME:CET
DTSTART:20221030T010000
END:STANDARD
END:VTIMEZONE
BEGIN:VEVENT
DTSTART;TZID=Europe/Berlin:20221010T163000
DTEND;TZID=Europe/Berlin:20221010T190000
DTSTAMP:20260422T173119
CREATED:20220920T085824Z
LAST-MODIFIED:20220926T122209Z
UID:11766-1665419400-1665428400@rellinger-turnverein.de
SUMMARY:Ferienprogramm Wettkampfturnen für Mädchen 6-9 Jahre (Schnupperstunde)
DESCRIPTION:Am 10.10.2022 können Mädchen im Alter von 6 – 9 Jahren an einer Schnupperstunde beim Wettkampfturnen teilnehmen. \nDiese findet in der Sporthalle Ellerbeker Weg in Rellingen von 16.30 bis 18.30 Uhr statt. \nEine Teilnahme ist jedoch nur mit vorheriger Anmeldung möglich. Bitte den Vor- und Nachnamen des Kindes\, das Geburtsdatum und eine \nTelefonnummer angeben. Die eMail sendet ihr direkt an unseren Sportlehrer Bodo Krüger. \n 
URL:https://rellinger-turnverein.de/termin/ferienprogramm-wettkampfturnen-fuer-maedchen-6-9-jahre-schupperstunde/
LOCATION:Schleswig-Holstein
ATTACH;FMTTYPE=image/jpeg:https://rellinger-turnverein.de/wp-content/uploads/2022/09/wettkampfturnen475-333.jpg
END:VEVENT
BEGIN:VEVENT
DTSTART;TZID=Europe/Berlin:20221018T100000
DTEND;TZID=Europe/Berlin:20221018T120000
DTSTAMP:20260422T173119
CREATED:20220919T160146Z
LAST-MODIFIED:20220920T122945Z
UID:11759-1666087200-1666094400@rellinger-turnverein.de
SUMMARY:Ferienprogramm "Parkour"
DESCRIPTION:Vom 18.10. – 20.10.2022 findet in der Sporthalle Egenbüttel von 10.00-12.00 Uhr unser Ferienprogramm „Parkour“ statt. Die Teilnehmerzahl ist auf 15 begrenzt. Das Ferienprogramm ist für Kinder im Altern von 8 – 12 Jahren gedacht. Die Kosten für die drei Tage betragen 15 Euro. Das Geld muss direkt an die Geschäftsstelle überwiesen werden. \n\n	Notice: JavaScript is required for this content.\nNo Fields Found.
URL:https://rellinger-turnverein.de/termin/ferienprogramm-parkour/
LOCATION:Große Sporthalle Egenbüttel\, Schulweg 2-4\, Rellingen\, Schleswig-Holstein\, 25462\, Deutschland
ATTACH;FMTTYPE=image/jpeg:https://rellinger-turnverein.de/wp-content/uploads/2022/06/parkour.jpg
ORGANIZER;CN="Rellinger%20Turnverein%20von%201900%20e.V.":MAILTO:info@rellinger-turnverein.de
END:VEVENT
END:VCALENDAR