BEGIN:VCALENDAR
VERSION:2.0
PRODID:-//Rellinger Turnverein - ECPv5.9.1//NONSGML v1.0//EN
CALSCALE:GREGORIAN
METHOD:PUBLISH
X-WR-CALNAME:Rellinger Turnverein
X-ORIGINAL-URL:https://rellinger-turnverein.de
X-WR-CALDESC:Events for Rellinger Turnverein
BEGIN:VTIMEZONE
TZID:Europe/Berlin
BEGIN:DAYLIGHT
TZOFFSETFROM:+0100
TZOFFSETTO:+0200
TZNAME:CEST
DTSTART:20220327T010000
END:DAYLIGHT
BEGIN:STANDARD
TZOFFSETFROM:+0200
TZOFFSETTO:+0100
TZNAME:CET
DTSTART:20221030T010000
END:STANDARD
END:VTIMEZONE
BEGIN:VEVENT
DTSTART;TZID=Europe/Berlin:20220401T200000
DTEND;TZID=Europe/Berlin:20220401T220000
DTSTAMP:20260422T074918
CREATED:20220331T070125Z
LAST-MODIFIED:20220331T070301Z
UID:10744-1648843200-1648850400@rellinger-turnverein.de
SUMMARY:Punktspiel 1. Herren Tischtennis
DESCRIPTION:Am Freitag\, 01. April 2022 findet in der Sporthalle Ellerbeker Weg um 20.00 Uhr das Punktspiel der 1. Herren statt.
URL:https://rellinger-turnverein.de/termin/10744/
LOCATION:Sporthalle Ellerbeker Weg\, Ellerbeker Weg 6\, Rellingen\, Schleswig-Holstein\, 25462\, Deutschland
ATTACH;FMTTYPE=image/jpeg:https://rellinger-turnverein.de/wp-content/uploads/2022/03/tischtennis-mittel.jpg
END:VEVENT
END:VCALENDAR