BEGIN:VCALENDAR
VERSION:2.0
PRODID:-//Rellinger Turnverein - ECPv5.9.1//NONSGML v1.0//EN
CALSCALE:GREGORIAN
METHOD:PUBLISH
X-WR-CALNAME:Rellinger Turnverein
X-ORIGINAL-URL:https://rellinger-turnverein.de
X-WR-CALDESC:Events for Rellinger Turnverein
BEGIN:VTIMEZONE
TZID:Europe/Berlin
BEGIN:DAYLIGHT
TZOFFSETFROM:+0100
TZOFFSETTO:+0200
TZNAME:CEST
DTSTART:20220327T010000
END:DAYLIGHT
BEGIN:STANDARD
TZOFFSETFROM:+0200
TZOFFSETTO:+0100
TZNAME:CET
DTSTART:20221030T010000
END:STANDARD
END:VTIMEZONE
BEGIN:VEVENT
DTSTART;TZID=Europe/Berlin:20220305T090000
DTEND;TZID=Europe/Berlin:20220305T111500
DTSTAMP:20260422T061219
CREATED:20220217T151046Z
LAST-MODIFIED:20220217T151108Z
UID:10568-1646470800-1646478900@rellinger-turnverein.de
SUMMARY:Lauf dich fit - Kursstart für Anfänger und Wiedereinsteiger
DESCRIPTION:Im Anfängerkurs hast du die Möglichkeit das Laufen von Grund auf (lieben) zu lernen. Wir beginnen ganz „sutsche“ mit der Gehen-Laufen-Gehen Methode und steigern uns langsam bis zu ca. 30 Minuten Durchlaufen\, in deinem eigenen Tempo. \nIm Fortgeschrittenenkurs werden die Techniken verfeinert und die Ausdauer weiter aufgebaut. Alle Fragen rund ums Laufen könnt ihr mit in den Kurs bringen\, ihr erhaltet umfassende Tipps & Tricks für eure Motivation und Erfolg.. \nKurstermine\nKurs Anfänger: Samstag\, 9.00 – 10.00 Uhr – Start: 5. März 2022 (6x)\nKurs Fortgeschrittene: Samstag\, 10.15 – 11.15 Uhr – Start: 5. März 2022 (6x) \nTreffpunkt: Eingang zur Sporthalle Caspar-Voght-Schule\nÜbungsleiterin: Silke Gundlach\nGebühr: 24\,- € je Kurs (6 Termine)\nÜberweisung an den Rellinger Turnverein: DE36 2219 1405 0002 1401 90 \nAnmeldungen bitte an die RTV-Geschäftsstelle per E-Mail: info@rellinger-turnverein.de
URL:https://rellinger-turnverein.de/termin/lauf-dich-fit-neuer-kurs-fuer-anfaenger-und-wiedereinsteiger/
LOCATION:Große Sporthalle Egenbüttel\, Schulweg 2-4\, Rellingen\, Schleswig-Holstein\, 25462\, Deutschland
ATTACH;FMTTYPE=image/jpeg:https://rellinger-turnverein.de/wp-content/uploads/2021/12/event_laufgruppe_114x80jpg.jpg
ORGANIZER;CN="Rellinger%20Turnverein%20von%201900%20e.V.":MAILTO:info@rellinger-turnverein.de
END:VEVENT
END:VCALENDAR