BEGIN:VCALENDAR
VERSION:2.0
PRODID:-//Rellinger Turnverein - ECPv5.9.1//NONSGML v1.0//EN
CALSCALE:GREGORIAN
METHOD:PUBLISH
X-WR-CALNAME:Rellinger Turnverein
X-ORIGINAL-URL:https://rellinger-turnverein.de
X-WR-CALDESC:Events for Rellinger Turnverein
BEGIN:VTIMEZONE
TZID:Europe/Berlin
BEGIN:DAYLIGHT
TZOFFSETFROM:+0100
TZOFFSETTO:+0200
TZNAME:CEST
DTSTART:20210328T010000
END:DAYLIGHT
BEGIN:STANDARD
TZOFFSETFROM:+0200
TZOFFSETTO:+0100
TZNAME:CET
DTSTART:20211031T010000
END:STANDARD
END:VTIMEZONE
BEGIN:VEVENT
DTSTART;TZID=Europe/Berlin:20211204T174500
DTEND;TZID=Europe/Berlin:20211205T190000
DTSTAMP:20260422T012146
CREATED:20211103T090139Z
LAST-MODIFIED:20211123T105610Z
UID:9918-1638639900-1638730800@rellinger-turnverein.de
SUMMARY:Handball Heimspiel Wochenende
DESCRIPTION:Wir laden herzlich alle Handballbegeisterten zum Heimspiel Wochenende der RTV Manschaften am 04. + 05. Dezember in die große Halle Egenbüttel ein. Für das leibliche Wohl vor Ort versorgen wir euch mit frischem Kaffee und leckeren Kuchen in unserer Cafeteria. \nDer Zutritt zu den Handballspielen ist nur mit der 2G-Regel möglich\, d.h. geimpft oder genesen. Die 2G’s werden im Eingangsbereich der Halle kontrolliert. \nBitte beachtet vor Ort das Hygienekonzept. \nSamstag 04.12.2021 \n17.45 Uhr    wA    Rellinger TV  vs.  Barmstedter MTV\n20.00 Uhr    mA1    Rellinger TV  vs.  Handball Sport Verein Hamburg 2 \nSonntag 05.12.2021  \n10.30 Uhr    mD2    Rellinger TV2  vs.  HTS/BW96 Handball 2\n12.00 Uhr    mC1    Rellinger TV  vs.  HL Buchholz08-Rosengarten\n13.45 Uhr    mB2    Rellinger TV2  vs.  Ahrensburger TSV\n15.45 Uhr    mB1    Rellinger TV  vs.  THW Kiel\n17.30 Uhr    Sen    Rellinger TV  vs.  HG Hamburg-Barmbek
URL:https://rellinger-turnverein.de/termin/handball-heimspiel-wochenende-8/
LOCATION:Große Sporthalle Egenbüttel\, Schulweg 2-4\, Rellingen\, Schleswig-Holstein\, 25462\, Deutschland
ATTACH;FMTTYPE=image/jpeg:https://rellinger-turnverein.de/wp-content/uploads/2021/10/event_handball06_114x80jpg.jpg
ORGANIZER;CN="Rellinger%20Turnverein%20von%201900%20e.V.":MAILTO:info@rellinger-turnverein.de
END:VEVENT
BEGIN:VEVENT
DTSTART;TZID=Europe/Berlin:20211206T173000
DTEND;TZID=Europe/Berlin:20211206T183000
DTSTAMP:20260422T012146
CREATED:20211111T110349Z
LAST-MODIFIED:20211111T110349Z
UID:9986-1638811800-1638815400@rellinger-turnverein.de
SUMMARY:Der RTV singt...
DESCRIPTION:Am Montag\, 06.12.2021 um 17.30 Uhr findet ein gemeinsames Adventssingen für Jung und Alt  vor dem RTV-Turnerheim statt. \nEs gibt leckere Plätzchen\, Schmalzbrot\, natürlich Glühwein\, Punsch und andere Leckereien. Außerdem gibt es eine kleine Weihnachtsgeschichte und eine musikalische Überraschung. 😊 \nWir bitten um eine Voranmeldung.\n04101-22670 oder per Mail: info@rellinger-turnverein.de
URL:https://rellinger-turnverein.de/termin/der-rtv-singt/
LOCATION:Garten am RTV-Turnerheim\, Hohle Straße 14\, Rellingen\, Schleswig-Holstein\, 25462\, Deutschland
ATTACH;FMTTYPE=image/jpeg:https://rellinger-turnverein.de/wp-content/uploads/2021/11/event_adventssingen_114x80jpg.jpg
ORGANIZER;CN="Rellinger%20Turnverein%20von%201900%20e.V.":MAILTO:info@rellinger-turnverein.de
END:VEVENT
BEGIN:VEVENT
DTSTART;TZID=Europe/Berlin:20211210T193000
DTEND;TZID=Europe/Berlin:20211210T210000
DTSTAMP:20260422T012146
CREATED:20211208T161246Z
LAST-MODIFIED:20211208T161556Z
UID:10088-1639164600-1639170000@rellinger-turnverein.de
SUMMARY:Handballevent - der THW Kiel kommt!
DESCRIPTION:Wir laden herzlich alle Handballbegeisterten zum Heimspiel der männlichen B-Jugend in der Oberliga Hamburg/Schleswig-Holstein am 10. Dezember um 19.30 Uhr in die große Halle Egenbüttel ein. Für das leibliche Wohl vor Ort versorgen wir euch mit frischem Kaffee und Softdrinks in unserer Cafeteria. \nDer Zutritt zu den Handballspielen ist nur mit der 2G-Regel möglich\, d.h. geimpft oder genesen. Die 2G’s werden im Eingangsbereich der Halle kontrolliert. \nBitte beachtet vor Ort das Hygienekonzept. \nFreitag 10.12.2021 \n19.30 Uhr    mB1    Rellinger TV  vs.  THW Kiel
URL:https://rellinger-turnverein.de/termin/handballevent-der-thw-kiel-kommt/
LOCATION:Große Sporthalle Egenbüttel\, Schulweg 2-4\, Rellingen\, Schleswig-Holstein\, 25462\, Deutschland
ATTACH;FMTTYPE=image/jpeg:https://rellinger-turnverein.de/wp-content/uploads/2021/12/event_handball09_114x80jpg.jpg
ORGANIZER;CN="Rellinger%20Turnverein%20von%201900%20e.V.":MAILTO:info@rellinger-turnverein.de
END:VEVENT
BEGIN:VEVENT
DTSTART;TZID=Europe/Berlin:20211211T150000
DTEND;TZID=Europe/Berlin:20211211T160000
DTSTAMP:20260422T012146
CREATED:20211110T121512Z
LAST-MODIFIED:20211130T093826Z
UID:9970-1639234800-1639238400@rellinger-turnverein.de
SUMMARY:Kommt mit auf Flinkis Abenteuerreise
DESCRIPTION:Am 11. Dezember 2021 um 15.00 Uhr ist es soweit. Flinki\, der kleine Inselhüpfer\, kommt mit seiner unterhaltsamen Geschichte „Flinki und die Piraten“ in die Schmidt-Schaller-Halle (Jahnstraße 1) des Rellinger TV. Die musikalische Lesung begeistert Kinder im Alter von 4-8 Jahren. Autor Christian Pletz und der Musiker Jan Haarmeyer nehmen die Kinder mit in Flinkis wunderbare Nordseewelt. \nDas knapp einstündige interaktive Programm regt zum Zuhören\, Mitsingen\, Tanzen und Träumen ein. Finden Flinki und die Piraten einen Schatz? Welche Tiere gibt es am Meer? Wer gewinnt die große Nordseeschlacht? Und welche Farbe hat eigentlich der Wind? Diese und viele weitere Fragen werden kindgerecht beantwortet und sorgen bei Groß und Klein für strahlende Augen. \nWer dabei sein möchte – die Veranstaltung eignet sich sehr für ganze Familien\, auch mit kleineren Kindern –\, sollte sich schnellstens eines oder mehrere der insgesamt 100 Tickets sichern\, die nur im Vorverkauf zu 3 Euro das Stück verkauft werden. Sie können auf der Geschäftsstelle des RTV oder bei den RTV-Sportlehrern Bodo\, Meike und Mellie direkt erworben werden. Kartenreservierungen sind nicht möglich. Es ist nur Barzahlung (und bei den Sportlehrern bitte passend) möglich. \nFlinki freut sich schon auf die Rellinger Kinder und ihre Eltern. Macht mit. \nHygieneregeln für die Veranstaltung: \nDie Veranstaltung findet unter der 2G-Regel nur für Geimpfte und Genesene statt und wird am Einlass kontrolliert. Ausgenommen sind Kinder bis zur Einschulung und minderjährige Schülerinnen und Schüler\, die regelmäßig in der Schule getestet werden. Wir sprechen zusätzlich die Empfehlung an alle Gäste aus\, sich vorher einmal zu testen\, damit wir eine größtmögliche Sicherheit am Veranstaltungstag leisten können. Beim Betreten der Halle besteht Maskenpflicht für alle. Am Sitzplatz können die Masken abgenommen werden.
URL:https://rellinger-turnverein.de/termin/kommt-mit-auf-flinkis-abenteuerreise/
LOCATION:Schmidt-Schaller-Halle\, Jahnstraße 1\, Rellingen\, Schleswig-Holstein\, 25462\, Deutschland
ATTACH;FMTTYPE=image/jpeg:https://rellinger-turnverein.de/wp-content/uploads/2021/11/event_flinki_114x80jpg.jpg
ORGANIZER;CN="Rellinger%20Turnverein%20von%201900%20e.V.":MAILTO:info@rellinger-turnverein.de
END:VEVENT
BEGIN:VEVENT
DTSTART;TZID=Europe/Berlin:20211211T180000
DTEND;TZID=Europe/Berlin:20211212T190000
DTSTAMP:20260422T012146
CREATED:20211103T091255Z
LAST-MODIFIED:20211208T160949Z
UID:9920-1639245600-1639335600@rellinger-turnverein.de
SUMMARY:Handball Heimspiel Wochenende
DESCRIPTION:Wir laden herzlich alle Handballbegeisterten zum Heimspiel Wochenende der RTV Manschaften am 11. + 12. Dezember in die große Halle Egenbüttel ein. Für das leibliche Wohl vor Ort versorgen wir euch mit frischem Kaffee und Softdrinks in unserer Cafeteria. \nDer Zutritt zu den Handballspielen ist nur mit der 2G-Regel möglich\, d.h. geimpft oder genesen. Die 2G’s werden im Eingangsbereich der Halle kontrolliert. \nBitte beachtet vor Ort das Hygienekonzept. \nSamstag 11.12.2021 \n18.00 Uhr    wB    Rellinger TV  vs.  HTS/BW96 Handball \nSonntag 12.12.2021  \n10.30 Uhr    wD1    Rellinger TV  vs.  AMTV Hamburg 2\n12.00 Uhr    wC2    Rellinger TV2  vs.  1.HC Quickborn\n13.45 Uhr    mC2    Rellinger TV2  vs.  Eimsbütteler TV\n15.30 Uhr    D1    Rellinger TV  vs.  Eimsbütteler TV 2\n17.30 Uhr    H1    Rellinger TV  vs.  Eimsbütteler TV 2
URL:https://rellinger-turnverein.de/termin/handball-heimspiel-wochenende-9/
LOCATION:Große Sporthalle Egenbüttel\, Schulweg 2-4\, Rellingen\, Schleswig-Holstein\, 25462\, Deutschland
ATTACH;FMTTYPE=image/jpeg:https://rellinger-turnverein.de/wp-content/uploads/2021/10/event_handball01_114x80jpg.jpg
ORGANIZER;CN="Rellinger%20Turnverein%20von%201900%20e.V.":MAILTO:info@rellinger-turnverein.de
END:VEVENT
BEGIN:VEVENT
DTSTART;TZID=Europe/Berlin:20211218T180000
DTEND;TZID=Europe/Berlin:20211218T193000
DTSTAMP:20260422T012146
CREATED:20211103T091806Z
LAST-MODIFIED:20211208T161011Z
UID:9922-1639850400-1639855800@rellinger-turnverein.de
SUMMARY:Handball Heimspieltag
DESCRIPTION:Wir laden herzlich alle Handballbegeisterten zum Heimspieltag der RTV Manschaften am 18. Dezember in die große Halle Egenbüttel ein. Für das leibliche Wohl vor Ort versorgen wir euch mit frischem Kaffee und Softdrinks in unserer Cafeteria. \nDer Zutritt zu den Handballspielen ist nur mit der 2G-Regel möglich\, d.h. geimpft oder genesen. Die 2G’s werden im Eingangsbereich der Halle kontrolliert. \nBitte beachtet vor Ort das Hygienekonzept. \nSamstag 18.12.2021 \n18.00 Uhr    mA1    Rellinger TV  vs.  HSG Eider Harde
URL:https://rellinger-turnverein.de/termin/handball-heimspieltag-3/
LOCATION:Große Sporthalle Egenbüttel\, Schulweg 2-4\, Rellingen\, Schleswig-Holstein\, 25462\, Deutschland
ATTACH;FMTTYPE=image/jpeg:https://rellinger-turnverein.de/wp-content/uploads/2021/10/event_handball03_114x80jpg.jpg
ORGANIZER;CN="Rellinger%20Turnverein%20von%201900%20e.V.":MAILTO:info@rellinger-turnverein.de
END:VEVENT
END:VCALENDAR