BEGIN:VCALENDAR
VERSION:2.0
PRODID:-//Rellinger Turnverein - ECPv5.9.1//NONSGML v1.0//EN
CALSCALE:GREGORIAN
METHOD:PUBLISH
X-WR-CALNAME:Rellinger Turnverein
X-ORIGINAL-URL:https://rellinger-turnverein.de
X-WR-CALDESC:Events for Rellinger Turnverein
BEGIN:VTIMEZONE
TZID:Europe/Berlin
BEGIN:DAYLIGHT
TZOFFSETFROM:+0100
TZOFFSETTO:+0200
TZNAME:CEST
DTSTART:20230326T010000
END:DAYLIGHT
BEGIN:STANDARD
TZOFFSETFROM:+0200
TZOFFSETTO:+0100
TZNAME:CET
DTSTART:20231029T010000
END:STANDARD
END:VTIMEZONE
BEGIN:VEVENT
DTSTART;TZID=Europe/Berlin:20230406T080000
DTEND;TZID=Europe/Berlin:20230421T190000
DTSTAMP:20260423T054149
CREATED:20230313T071448Z
LAST-MODIFIED:20230409T074136Z
UID:12978-1680768000-1682103600@rellinger-turnverein.de
SUMMARY:Osterferienprogramm 2023
DESCRIPTION:Vom 6. bis 21. April 2023 sind Osterferien. \nDer Rellinger Turnverein bietet hier wieder ein tolles Ferienprogramm an. \nFür die meisten Angebote ist unbedingt eine vorherige Anmeldung notwendig. \nOsterferienprogramm 2023
URL:https://rellinger-turnverein.de/termin/osterferienprogramm-2023/
LOCATION:Schleswig-Holstein
ORGANIZER;CN="Rellinger%20Turnverein%20von%201900%20e.V.":MAILTO:info@rellinger-turnverein.de
END:VEVENT
END:VCALENDAR