BEGIN:VCALENDAR
VERSION:2.0
PRODID:-//Rellinger Turnverein - ECPv5.9.1//NONSGML v1.0//EN
CALSCALE:GREGORIAN
METHOD:PUBLISH
X-WR-CALNAME:Rellinger Turnverein
X-ORIGINAL-URL:https://rellinger-turnverein.de
X-WR-CALDESC:Events for Rellinger Turnverein
BEGIN:VTIMEZONE
TZID:Europe/Berlin
BEGIN:DAYLIGHT
TZOFFSETFROM:+0100
TZOFFSETTO:+0200
TZNAME:CEST
DTSTART:20220327T010000
END:DAYLIGHT
BEGIN:STANDARD
TZOFFSETFROM:+0200
TZOFFSETTO:+0100
TZNAME:CET
DTSTART:20221030T010000
END:STANDARD
END:VTIMEZONE
BEGIN:VEVENT
DTSTART;TZID=Europe/Berlin:20220706T100000
DTEND;TZID=Europe/Berlin:20220708T120000
DTSTAMP:20260422T140341
CREATED:20220616T115835Z
LAST-MODIFIED:20220620T084420Z
UID:11164-1657101600-1657281600@rellinger-turnverein.de
SUMMARY:Sommerferienprogramm Parkour für Anfänger
DESCRIPTION:Vom 6. bis einschließlich 8. Juli 2022 haben interessierte Jungen und Mädchen im Alter von 8 bis 12 Jahren die Möglichkeit\, \nsich beim Parkour auszuprobieren. Das Ferienprogramm findet über 3 Tage jeweils von 10.00 – 12.00 Uhr (Ellerbeker Weg) statt. \nUnsere Trainerin Mellie hat hier ein spannendes Ferienprogramm zusammengestellt. \nEine verbindliche Anmeldung ist unbedingt erforderlich. \nDie Teilnehmerzahl ist auf 20 begrenzt. Die Kosten betragen 15 € pro Kind und müssen im Vorfeld beglichen werden. \n\n	Notice: JavaScript is required for this content.\nNo Fields Found.\n\n    \n\n\n        \n        \n        \n 
URL:https://rellinger-turnverein.de/termin/sommerferienprogramm-parkour-fuer-anfaenger/
LOCATION:Sporthalle Ellerbeker Weg\, Ellerbeker Weg 6\, Rellingen\, Schleswig-Holstein\, 25462\, Deutschland
ATTACH;FMTTYPE=image/jpeg:https://rellinger-turnverein.de/wp-content/uploads/2022/06/parkour.jpg
ORGANIZER;CN="Rellinger%20Turnverein%20von%201900%20e.V.":MAILTO:info@rellinger-turnverein.de
END:VEVENT
BEGIN:VEVENT
DTSTART;TZID=Europe/Berlin:20220706T120000
DTEND;TZID=Europe/Berlin:20220708T140000
DTSTAMP:20260422T140341
CREATED:20220616T120845Z
LAST-MODIFIED:20220620T084415Z
UID:11168-1657108800-1657288800@rellinger-turnverein.de
SUMMARY:Sommerferienprogramm Handball-Mini-Camp
DESCRIPTION:Vom 6. bis einschließlich 8. Juli 2022 haben interessierte Jungen und Mädchen im Alter von 6 bis 9 Jahren die Möglichkeit \nerste Erfahrungen beim Handball zu sammeln. Das Ferienprogramm findet über 3 Tage jeweils von 12.00 – 14.00 Uhr in der \nSporthalle Ellerbeker Weg statt. Unsere Trainerin Mellie hat hier ein spannendes Ferienprogramm zusammengestellt. \nEine verbindliche Anmeldung ist unbedingt erforderlich. \nAnmeldung mit vollständigem Namen des Kindes\, Geburtsdatum und einer Telefonnummer an \nMellie Pletz-Mendes: melliemendes@hotmail.de \n 
URL:https://rellinger-turnverein.de/termin/sommerferienprogramm-handball-mini-camp/
LOCATION:Sporthalle Ellerbeker Weg\, Ellerbeker Weg 6\, Rellingen\, Schleswig-Holstein\, 25462\, Deutschland
ATTACH;FMTTYPE=image/jpeg:https://rellinger-turnverein.de/wp-content/uploads/2022/06/handball.jpg
ORGANIZER;CN="Rellinger%20Turnverein%20von%201900%20e.V.":MAILTO:info@rellinger-turnverein.de
END:VEVENT
BEGIN:VEVENT
DTSTART;TZID=Europe/Berlin:20220707T150000
DTEND;TZID=Europe/Berlin:20220707T170000
DTSTAMP:20260422T140341
CREATED:20220616T121605Z
LAST-MODIFIED:20220616T121605Z
UID:11176-1657206000-1657213200@rellinger-turnverein.de
SUMMARY:Sommerferienprogramm Jump-Tag
DESCRIPTION:Am 7. Juli 2022 findet von 15.00 – 17.00 Uhr der Jump-Tag für Kinder ab 7 Jahren statt. \nAlles was euch in die Luft katapulitiert\, wie z.B. Airtrack\, Trampolin oder Sprungbretter\, \nkann hier ausgiebig ausprobiert werden. \nEine Anmeldung für diesen Aktionstag ist unbedingt erforderlich. \nDie Anmeldung bitte mit vollständigem Namen des Kindes\, Geburtsdatum und einer Telefonnummer an: \nBodo Krüger bodo.krueger2016@gmail.com
URL:https://rellinger-turnverein.de/termin/sommerferienprogramm-jump-tag/
LOCATION:Sporthalle Ellerbeker Weg\, Ellerbeker Weg 6\, Rellingen\, Schleswig-Holstein\, 25462\, Deutschland
ATTACH;FMTTYPE=image/jpeg:https://rellinger-turnverein.de/wp-content/uploads/2022/06/jumptag.jpg
ORGANIZER;CN="Rellinger%20Turnverein%20von%201900%20e.V.":MAILTO:info@rellinger-turnverein.de
END:VEVENT
END:VCALENDAR