BEGIN:VCALENDAR
VERSION:2.0
PRODID:-//Rellinger Turnverein - ECPv5.9.1//NONSGML v1.0//EN
CALSCALE:GREGORIAN
METHOD:PUBLISH
X-WR-CALNAME:Rellinger Turnverein
X-ORIGINAL-URL:https://rellinger-turnverein.de
X-WR-CALDESC:Events for Rellinger Turnverein
BEGIN:VTIMEZONE
TZID:Europe/Berlin
BEGIN:DAYLIGHT
TZOFFSETFROM:+0100
TZOFFSETTO:+0200
TZNAME:CEST
DTSTART:20220327T010000
END:DAYLIGHT
BEGIN:STANDARD
TZOFFSETFROM:+0200
TZOFFSETTO:+0100
TZNAME:CET
DTSTART:20221030T010000
END:STANDARD
END:VTIMEZONE
BEGIN:VEVENT
DTSTART;TZID=Europe/Berlin:20220103T100000
DTEND;TZID=Europe/Berlin:20220118T110726
DTSTAMP:20260422T044123
CREATED:20211215T081247Z
LAST-MODIFIED:20220118T110726Z
UID:10149-1641204000-1642504046@rellinger-turnverein.de
SUMMARY:Kursstart Winterstaffel
DESCRIPTION:Am Montag\, 3. Januar 2022 startet die neue Winterstaffel. Viele Kurse werden weiterhin in Präsenz und Online angeboten und sind im Kursflyer mit einem Kamerasymbol vermerkt. Die Zoom-Links sind weiter unten aufgeführt.  \nNeu ist unser Ampelsystem:\nRote Ampel bedeutet\, dass es leider keine freien Präsenzplätze für diesen Kurs gibt. Sie haben trotzdem Interesse? Dann melden Sie sich im RTV-Büro und wir vermerken Sie auf der Warteliste für den entsprechenden Kurs.\nGrüne Ampel bedeutet\, es gibt noch freie Präsenzplätze und Sie können jederzeit zu einer Probestunde vorbeischauen. \nKursflyer Winterstaffel
URL:https://rellinger-turnverein.de/termin/kursstart-winterstaffel/
LOCATION:Gymnastikraum im RTV-Turnerheim\, Hohle Straße 14\, Rellingen\, Schleswig-Holstein\, 25462\, Deutschland
ATTACH;FMTTYPE=image/jpeg:https://rellinger-turnverein.de/wp-content/uploads/2021/12/event_gesundheitskurse_114x80jpg.jpg
ORGANIZER;CN="Rellinger%20Turnverein%20von%201900%20e.V.":MAILTO:info@rellinger-turnverein.de
END:VEVENT
BEGIN:VEVENT
DTSTART;TZID=Europe/Berlin:20220113T100000
DTEND;TZID=Europe/Berlin:20220113T110000
DTSTAMP:20260422T044123
CREATED:20211215T081701Z
LAST-MODIFIED:20220112T135441Z
UID:10155-1642068000-1642071600@rellinger-turnverein.de
SUMMARY:Anfängerkurs 1: Lauf dich fit
DESCRIPTION:In diesem Anfänger Kursus hast du die Möglichkeit das Laufen von Grund auf (lieben) zu lernen. Jeder kann teilnehmen\, denn wir beginnen ganz „sutsche“ mit der Gehen-Laufen-Gehen Methode und steigern uns langsam bis zu ca. 30 Minuten Durchlaufen\, in deinem eigenen Tempo. Die Ausdauer wird aufgebaut\, die Koordination\, Beweglichkeit und Kraft werden geschult. Alle Fragen rund ums Laufen könnt ihr mit in den Kurs bringen\, ihr erhaltet umfassende Tipps & Tricks für eure Motivation und Erfolg. \nKurstermine\nKurs 1: Donnerstag\, 10.00 – 11.00 Uhr – Start: 13. Januar 2022 (6x) ENTFÄLLT\nKurs 2 Samstag\, 9.00 – 10.00 Uhr – Start: 15. Januar 2022 (6x) \nTreffpunkt: Eingang zur Sporthalle Caspar-Voght-Schule\nÜbungsleiterin: Silke Gundlach\nGebühr: 24\,- € je Kurs (6 Termine)\nÜberweisung an den Rellinger Turnverein: DE36 2219 1405 0002 1401 90 \nAnmeldungen bitte an die RTV-Geschäftsstelle per E-Mail: info@rellinger-turnverein.de
URL:https://rellinger-turnverein.de/termin/anfaengerkurs-1-lauf-dich-fit/
LOCATION:Sportgelände an der Caspar-Voght-Schule\, Schulweg\, Rellingen\, 25462\, Deutschland
ATTACH;FMTTYPE=image/jpeg:https://rellinger-turnverein.de/wp-content/uploads/2021/12/event_laufgruppe_114x80jpg.jpg
ORGANIZER;CN="Rellinger%20Turnverein%20von%201900%20e.V.":MAILTO:info@rellinger-turnverein.de
END:VEVENT
END:VCALENDAR