BEGIN:VCALENDAR
VERSION:2.0
PRODID:-//Rellinger Turnverein - ECPv5.9.1//NONSGML v1.0//EN
CALSCALE:GREGORIAN
METHOD:PUBLISH
X-WR-CALNAME:Rellinger Turnverein
X-ORIGINAL-URL:https://rellinger-turnverein.de
X-WR-CALDESC:Events for Rellinger Turnverein
BEGIN:VTIMEZONE
TZID:Europe/Berlin
BEGIN:DAYLIGHT
TZOFFSETFROM:+0100
TZOFFSETTO:+0200
TZNAME:CEST
DTSTART:20210328T010000
END:DAYLIGHT
BEGIN:STANDARD
TZOFFSETFROM:+0200
TZOFFSETTO:+0100
TZNAME:CET
DTSTART:20211031T010000
END:STANDARD
END:VTIMEZONE
BEGIN:VEVENT
DTSTART;TZID=Europe/Berlin:20211127T120000
DTEND;TZID=Europe/Berlin:20211127T150000
DTSTAMP:20260422T023900
CREATED:20211021T084033Z
LAST-MODIFIED:20211123T102544Z
UID:9754-1638014400-1638025200@rellinger-turnverein.de
SUMMARY:Rocket League Turnier - ABGESAGT
DESCRIPTION:Ihr habt Lust auf E-Sport und Rocket League? Dann kommt zu uns ins RTV-Turnerheim! \nDas ungemütliche Herbstwetter lädt gerade dazu ein\, ein entspanntes und doch aufregendes Gaming Turnier im gemütlichen Vereinsheim zu bestreiten. Dafür hat der Rellinger Turnverein sein Gaming Equipment für euch auf den neuesten Stand gebracht. Es ist also alles angerichtet für einen denkwürdigen Nachmittag\, voller Freude\, Spaß und Dramatik. Durch die positiven Rückmeldungen von euch\, gibt es am 27. November 2021 von 12.00 – ca. 15.00 Uhr ein Rocket League Turnier bei uns im Turnerheim. Gespielt wird auf der PS4 im Duo-Modus. Du willst dabei zu sein? Dann schreibe uns eine Mail: info@rellinger-turnverein.de oder schicke uns eine Nachricht über unseren Instagram Account @rellingerturnverein mit Angabe von Name\, Alter und einer Kontaktnummer. Die Teilnehmerzahl ist auf 16 Teams begrenzt. \nWir freuen uns auf euch und über ein spannendes Turnier.
URL:https://rellinger-turnverein.de/termin/rocket-league-turnier/
LOCATION:Festsaal im RTV-Turnerheim\, Hohle Straße 14\, Rellingen\, Schleswig-Holstein\, 25462\, Deutschland
ATTACH;FMTTYPE=image/jpeg:https://rellinger-turnverein.de/wp-content/uploads/2021/10/event_rocketleague_114x80jpg.jpg
ORGANIZER;CN="Rellinger%20Turnverein%20von%201900%20e.V.":MAILTO:info@rellinger-turnverein.de
END:VEVENT
BEGIN:VEVENT
DTSTART;TZID=Europe/Berlin:20211127T141500
DTEND;TZID=Europe/Berlin:20211128T203000
DTSTAMP:20260422T023900
CREATED:20211103T083951Z
LAST-MODIFIED:20211123T105549Z
UID:9913-1638022500-1638131400@rellinger-turnverein.de
SUMMARY:Handball Heimspiel Wochenende
DESCRIPTION:Wir laden herzlich alle Handballbegeisterten zum Heimspiel Wochenende der RTV Manschaften am 27. + 28. November in die große Halle Egenbüttel ein. Für das leibliche Wohl vor Ort versorgen wir euch mit frischem Kaffee und leckeren Kuchen in unserer Cafeteria. Der Zutritt zu den Handballspielen ist nur mit der 2G-Regel möglich\, d.h. geimpft oder genesen. Die 2G’s werden im Eingangsbereich der Halle kontrolliert. \nBitte beachtet vor Ort das Hygienekonzept. \nSamstag 27.11.2021 \n14.15 Uhr    mB3   Rellinger TV3  vs.  SG Osdorf/Lurup\n16.15 Uhr   mB1    Rellinger TV  vs.  MTV Lübeck\n18.00 Uhr   wA    Rellinger TV vs.  Elsmhorner HT\n20.00 Uhr   H1    Rellinger TV vs.  SG Altona \nSonntag 28.11.2021  \n10.30 Uhr    mA2    Rellinger TV3  vs.  AMTV Hamburg\n12.30 Uhr    wD1    Rellinger TV  vs.  HTS/BW96 Handball\n14.00 Uhr    mE    Rellinger TV  vs.  HT Norderstedt\n15.30 Uhr    D1    Rellinger TV  vs.  SG Altona 3\n17.30 Uhr    wB    Rellinger TV  vs.  Barmstedter MTV\n19.15 Uhr    H2    Rellinger TV2 vs.  TSV Ellerbek 4                                                                                                                                                                                                
URL:https://rellinger-turnverein.de/termin/hanball-heimspiel-wochenende/
LOCATION:Große Sporthalle Egenbüttel\, Schulweg 2-4\, Rellingen\, Schleswig-Holstein\, 25462\, Deutschland
ATTACH;FMTTYPE=image/jpeg:https://rellinger-turnverein.de/wp-content/uploads/2021/10/event_handball05_114x80jpg.jpg
ORGANIZER;CN="Rellinger%20Turnverein%20von%201900%20e.V.":MAILTO:info@rellinger-turnverein.de
END:VEVENT
END:VCALENDAR