BEGIN:VCALENDAR
VERSION:2.0
PRODID:-//Rellinger Turnverein - ECPv5.9.1//NONSGML v1.0//EN
CALSCALE:GREGORIAN
METHOD:PUBLISH
X-WR-CALNAME:Rellinger Turnverein
X-ORIGINAL-URL:https://rellinger-turnverein.de
X-WR-CALDESC:Events for Rellinger Turnverein
BEGIN:VTIMEZONE
TZID:Europe/Berlin
BEGIN:DAYLIGHT
TZOFFSETFROM:+0100
TZOFFSETTO:+0200
TZNAME:CEST
DTSTART:20210328T010000
END:DAYLIGHT
BEGIN:STANDARD
TZOFFSETFROM:+0200
TZOFFSETTO:+0100
TZNAME:CET
DTSTART:20211031T010000
END:STANDARD
END:VTIMEZONE
BEGIN:VEVENT
DTSTART;TZID=Europe/Berlin:20211120T170000
DTEND;TZID=Europe/Berlin:20211121T213000
DTSTAMP:20260422T012151
CREATED:20211103T081503Z
LAST-MODIFIED:20211111T103539Z
UID:9911-1637427600-1637530200@rellinger-turnverein.de
SUMMARY:Handball Heimspiel Wochenende
DESCRIPTION:Wir laden herzlich alle Handballbegeisterten zum Heimspiel Wochenende der RTV Manschaften am 20. + 21. November in die große Halle Egenbüttel ein. Für das leibliche Wohl vor Ort versorgen wir euch mit frischem Kaffee und leckeren Kuchen in unserer Cafeteria. Der Zutritt zu den Handballspielen ist nur mit der 3G-Regel möglich\, d.h. geimpft\, genesen oder getestet. Die 3G’s werden im Eingangsbereich der Halle kontrolliert. \nBitte beachtet vor Ort das Hygienekonzept. \nSamstag 20.11.2021 \n17.00 Uhr    mA1    Rellinger TV  vs.  VFL Bad Schwartau \nSonntag 21.11.2021  \n10.00 Uhr    mD1    Rellinger TV  vs.  SG Hamburg.Nord 2\n11.30 Uhr    wE    Rellinger TV  vs.  HT Norderstedt\n13.00 Uhr    mD2    Rellinger TV2  vs.  TSV Uetersen\n14.30 Uhr    wC1    Rellinger TV  vs.  SC Alstertal-Langenhorn\n16.15 Uhr    mC2    Rellinger TV2  vs.  Walddörfer SV 2\n18.00 Uhr    mA2    Rellinger TV3  vs.  HL Buchholz08-Rosengarten\n20.00 Uhr   Sen     Rellinger TV vs.  HSG Elbvororte                                                                                                                                                                                                                                          
URL:https://rellinger-turnverein.de/termin/handball-heimspiel-wochenende-7/
LOCATION:Große Sporthalle Egenbüttel\, Schulweg 2-4\, Rellingen\, Schleswig-Holstein\, 25462\, Deutschland
ATTACH;FMTTYPE=image/jpeg:https://rellinger-turnverein.de/wp-content/uploads/2021/10/event_handball08_114x80jpg.jpg
ORGANIZER;CN="Rellinger%20Turnverein%20von%201900%20e.V.":MAILTO:info@rellinger-turnverein.de
END:VEVENT
END:VCALENDAR