BEGIN:VCALENDAR
VERSION:2.0
PRODID:-//Rellinger Turnverein - ECPv5.9.1//NONSGML v1.0//EN
CALSCALE:GREGORIAN
METHOD:PUBLISH
X-WR-CALNAME:Rellinger Turnverein
X-ORIGINAL-URL:https://rellinger-turnverein.de
X-WR-CALDESC:Events for Rellinger Turnverein
BEGIN:VTIMEZONE
TZID:Europe/Berlin
BEGIN:DAYLIGHT
TZOFFSETFROM:+0100
TZOFFSETTO:+0200
TZNAME:CEST
DTSTART:20210328T010000
END:DAYLIGHT
BEGIN:STANDARD
TZOFFSETFROM:+0200
TZOFFSETTO:+0100
TZNAME:CET
DTSTART:20211031T010000
END:STANDARD
END:VTIMEZONE
BEGIN:VEVENT
DTSTART;TZID=Europe/Berlin:20211113T184500
DTEND;TZID=Europe/Berlin:20211114T201500
DTSTAMP:20260422T012140
CREATED:20211103T074457Z
LAST-MODIFIED:20211111T103336Z
UID:9908-1636829100-1636920900@rellinger-turnverein.de
SUMMARY:Handball Heimspiel Wochenende
DESCRIPTION:Wir laden herzlich alle Handballbegeisterten zum Heimspiel Wochenende der RTV Manschaften am 13. + 14. November in die große Halle Egenbüttel ein. Für das leibliche Wohl vor Ort versorgen wir euch mit frischem Kaffee und leckeren Kuchen in unserer Cafeteria. Der Zutritt zu den Handballspielen ist nur mit der 3G-Regel möglich\, d.h. geimpft\, genesen oder getestet. Die 3G’s werden im Eingangsbereich der Halle kontrolliert. \nBitte beachtet vor Ort das Hygienekonzept. \nSamstag 13.11.2021 \n18:45 Uhr    mB1    Rellinger TV  vs.  TSV Kronshagen\n20:30 Uhr    H1    Rellinger TV  vs.  TSV Ellerbek 3 \nSonntag 14.11.2021  \n10:15 Uhr    wC2    Rellinger TV2  vs.  HSG Elbvororte\n12:00 Uhr    wD1    Rellinger TV  vs.  TSV Ellerbek\n13:45 Uhr    mB2    Rellinger TV2  vs.  SG Hamburg-Nord 2\n15:30 Uhr    D1    Rellinger TV  vs.  FC. St. Pauli 2\n17:30 Uhr    mB3    Rellinger TV3  vs.  TSV Uetersen\n19:15 Uhr    H2    Rellinger TV2  vs.  1. HC Quickborn
URL:https://rellinger-turnverein.de/termin/handball-heimspiel-wochenende-6/
LOCATION:Große Sporthalle Egenbüttel\, Schulweg 2-4\, Rellingen\, Schleswig-Holstein\, 25462\, Deutschland
ATTACH;FMTTYPE=image/jpeg:https://rellinger-turnverein.de/wp-content/uploads/2021/10/event_handball02_114x80jpg.jpg
ORGANIZER;CN="Rellinger%20Turnverein%20von%201900%20e.V.":MAILTO:info@rellinger-turnverein.de
END:VEVENT
BEGIN:VEVENT
DTSTART;TZID=Europe/Berlin:20211114T153000
DTEND;TZID=Europe/Berlin:20211114T170000
DTSTAMP:20260422T012140
CREATED:20210721T082333Z
LAST-MODIFIED:20211025T114515Z
UID:9182-1636903800-1636909200@rellinger-turnverein.de
SUMMARY:9. RTV-Spiel- und Spaß-Olympiade
DESCRIPTION:Wir sind AUSGBUCHT !!!  \nDie 9. RTV-Spiel- und Spaß-Olympiade „Im Dschungel“ findet am Sonntag\, 14. November 2021 von 15.30 – 17.00 Uhr im Rahmen des Kinderturn-Sonntags für alle Kinder ab dem Laufen bis Schulbeginn in der Sporthalle Ellerbeker Weg statt. Eine Teilnahme ist in diesem Jahr nur mit vorheriger Anmeldung möglich. Bitte beachtet\, dass die Kinder (egal ob 1\, 2\, 3 oder mehr Kinder aus einem Haushalt) nur von maximal 2 Erwachsenen begleitet werden können\, also nicht 2 Begleitpersonen pro Kind. Die Teilnehmerplätze sind begrenzt. Es gilt 3G und wird am Eingang kontrolliert. Bitte haltet euren Nachweis bereit. \nAlle Kinder die schon laufen können\, aber noch nicht zur Schule gehen\, sind herzlich eingeladen. Bitte bringt Sportzeug und leichte Turnschuhe\, Stoppersocken oder Turnschläppchen mit (auch für die Eltern – keine Straßenschuhe). \nUnsere Cafeteria verwöhnt euch wieder mit Kuchen und Getränken. Zudem wird es in diesem Jahr auch eine kleine Tombola mit tollen Gewinnpreisen geben. Der Erlös geht eins zu eins in die Kinderturngruppen. \nWir freuen uns auf Euch!
URL:https://rellinger-turnverein.de/termin/kinderturn-sonntag/
LOCATION:Sporthalle Ellerbeker Weg\, Ellerbeker Weg 6\, Rellingen\, Schleswig-Holstein\, 25462\, Deutschland
ATTACH;FMTTYPE=image/jpeg:https://rellinger-turnverein.de/wp-content/uploads/2021/10/event_dschungel_114x80jpg.jpg
ORGANIZER;CN="Rellinger%20Turnverein%20von%201900%20e.V.":MAILTO:info@rellinger-turnverein.de
END:VEVENT
END:VCALENDAR