BEGIN:VCALENDAR
VERSION:2.0
PRODID:-//Rellinger Turnverein - ECPv5.9.1//NONSGML v1.0//EN
CALSCALE:GREGORIAN
METHOD:PUBLISH
X-WR-CALNAME:Rellinger Turnverein
X-ORIGINAL-URL:https://rellinger-turnverein.de
X-WR-CALDESC:Events for Rellinger Turnverein
BEGIN:VTIMEZONE
TZID:Europe/Berlin
BEGIN:DAYLIGHT
TZOFFSETFROM:+0100
TZOFFSETTO:+0200
TZNAME:CEST
DTSTART:20210328T010000
END:DAYLIGHT
BEGIN:STANDARD
TZOFFSETFROM:+0200
TZOFFSETTO:+0100
TZNAME:CET
DTSTART:20211031T010000
END:STANDARD
END:VTIMEZONE
BEGIN:VEVENT
DTSTART;TZID=Europe/Berlin:20211106T090000
DTEND;TZID=Europe/Berlin:20211106T120000
DTSTAMP:20260422T005836
CREATED:20211013T133207Z
LAST-MODIFIED:20211013T133207Z
UID:9589-1636189200-1636200000@rellinger-turnverein.de
SUMMARY:Gartenputzaktion
DESCRIPTION:Helfer gesucht für kleine Gartenputzaktion rund um das RTV-Turnerheim am \nSamstag\, 6. November ab 9.00 Uhr \nKoordiniert wird die kleine Putzaktion vor Ort von unserer Gärtnerin Angelika Boese. \nAnfallende Arbeiten: \n\nLaub von den Rasenflächen harken und in die Abfallsäcke füllen\neinige Büsche und Stauden im Vorgarten etwas beschneiden\nunteres Astwerk der Linde abschneiden\nuntere Äste von der Stileiche absägen\nRegenrinne von der Schmidt-Schaller-Halle vom Laub befreien\ndie Wegeplatten rund ums Turnerheim fegen\ndie Auffangkörbe in den Sielen leeren\n\nFür Kaffee\, bzw. Getränke ist gesorgt. \nBitte Arbeitshandschuhe mitbringen!
URL:https://rellinger-turnverein.de/termin/gartenputzaktion/
LOCATION:Garten am RTV-Turnerheim\, Hohle Straße 14\, Rellingen\, Schleswig-Holstein\, 25462\, Deutschland
ATTACH;FMTTYPE=image/jpeg:https://rellinger-turnverein.de/wp-content/uploads/2021/10/event_gartenaktion_114x80jpg.jpg
ORGANIZER;CN="Rellinger%20Turnverein%20von%201900%20e.V.":MAILTO:info@rellinger-turnverein.de
END:VEVENT
BEGIN:VEVENT
DTSTART;TZID=Europe/Berlin:20211106T180000
DTEND;TZID=Europe/Berlin:20211107T173000
DTSTAMP:20260422T005836
CREATED:20211029T102357Z
LAST-MODIFIED:20211029T103420Z
UID:9888-1636221600-1636306200@rellinger-turnverein.de
SUMMARY:Handball Heimspielwochende
DESCRIPTION:Wir laden herzlich alle Handballbegeisterten zum Heimspiel Wochenende der RTV Manschaften am 06. + 07. November in die große Halle Egenbüttel ein. Für das leibliche Wohl vor Ort versorgen wir euch mit frischem Kaffee und leckeren Kuchen in unserer Cafeteria. Der Zutritt zu den Handballspielen ist nur mit der 3G-Regel möglich\, d.h. geimpft\, genesen oder getestet. Die 3G’s werden im Eingangsbereich der Halle kontrolliert. \nBitte beachtet vor Ort das Hygienekonzept. \nSamstag\, 06.11.2021 \n18:00 Uhr    mA1    Rellinger TV  vs.  TSV Kronshagen\n20:00 Uhr    H1    Rellinger TV 2  vs.  TuS Esingen 2 \nSonntag\, 07.11.2021 \n14:00 Uhr    mE    Rellinger TV  vs.  AMTV Hamburg\n15:30 Uhr    D1    Rellinger TV  vs.  SG Hamburg- Nord 3
URL:https://rellinger-turnverein.de/termin/handball-heimspieltag-2/
LOCATION:Große Sporthalle Egenbüttel\, Schulweg 2-4\, Rellingen\, Schleswig-Holstein\, 25462\, Deutschland
ATTACH;FMTTYPE=image/jpeg:https://rellinger-turnverein.de/wp-content/uploads/2021/10/event_handball03_114x80jpg.jpg
ORGANIZER;CN="Rellinger%20Turnverein%20von%201900%20e.V.":MAILTO:info@rellinger-turnverein.de
END:VEVENT
END:VCALENDAR