BEGIN:VCALENDAR
VERSION:2.0
PRODID:-//Rellinger Turnverein - ECPv5.9.1//NONSGML v1.0//EN
CALSCALE:GREGORIAN
METHOD:PUBLISH
X-WR-CALNAME:Rellinger Turnverein
X-ORIGINAL-URL:https://rellinger-turnverein.de
X-WR-CALDESC:Events for Rellinger Turnverein
BEGIN:VTIMEZONE
TZID:Europe/Berlin
BEGIN:DAYLIGHT
TZOFFSETFROM:+0100
TZOFFSETTO:+0200
TZNAME:CEST
DTSTART:20210328T010000
END:DAYLIGHT
BEGIN:STANDARD
TZOFFSETFROM:+0200
TZOFFSETTO:+0100
TZNAME:CET
DTSTART:20211031T010000
END:STANDARD
END:VTIMEZONE
BEGIN:VEVENT
DTSTART;TZID=Europe/Berlin:20210925T100000
DTEND;TZID=Europe/Berlin:20210925T170000
DTSTAMP:20260421T215600
CREATED:20210817T122331Z
LAST-MODIFIED:20210817T122641Z
UID:9234-1632564000-1632589200@rellinger-turnverein.de
SUMMARY:2. Rellinger Kinder-10-Kampf
DESCRIPTION:RTV-Leichtathleten aufgepasst: Am 25. September findet der 2. Rellinger Kinder-10-kampf auf der Sportanlage der Caspar-Voght-Schule statt. Bis 9.45 Uhr solltet ihr alle da sein\, denn um 10 Uhr startet der Wettbewerb. \nWettbewerbe (nur kompletter 10-Kampf):\nw/m 6/7/8/9 30m/Weit/Gummi-Ball/Hoch/Linienlauf/30m Hürden/Ring/Stab/Ball/400m\nw/m 10/11/12 50m/Weit/Med-Ball/Hoch/Linienlauf/50m Hürden/Ring/Stab/Ball/800m\nHinweise: Bei einer Gesamt-Teilnehmerzahl von mehr als 20 Athleten werden nur 2 Wurf- und Sprungversuche durchgeführt. \nAuszeichnungen:\nMedaillen für Platz 1-3\, Urkunden für alle Platzierungen. \nMeldung/Meldeschluss:\nAnmeldung bis Montag\, 13.09.2021 an julia_eichler@web.de mit folgenden Angaben: Vorname\, Name\, Geburtsdatum\, Geschlecht. \nZeitplan (vorläufig):\nBeginn der Disziplinen. Zeiten sind geschätzt\, Verzug kann nicht ausgeschlossen werden.\nSprint 30m/50m 10:00 Uhr\nWeit 10:20 Uhr\nGummi-Ball / Med-Ball 11:00 Uhr\nHoch 11:30 Uhr\nLinienlauf 12:15 Uhr\nPause bis ca. 13:00 Uhr\n30m Hürden / 50m Hürden 13:00 Uhr\nRing 13:30 Uhr\nStabhoch 14:00 Uhr\nBall 15:00 Uhr\n400m / 800m 15:30 Uhr\nSiegerehrung ab 16:00 Uhr\nEnde der Veranstaltung voraussichtlich 17:00 Uhr
URL:https://rellinger-turnverein.de/termin/2-rellinger-kinder-10-kampf/
LOCATION:Sportgelände an der Caspar-Voght-Schule\, Schulweg\, Rellingen\, 25462\, Deutschland
ATTACH;FMTTYPE=image/jpeg:https://rellinger-turnverein.de/wp-content/uploads/2021/05/Vereinskollektion_01-e1629203176713.jpg
ORGANIZER;CN="Rellinger%20Turnverein%20von%201900%20e.V.":MAILTO:info@rellinger-turnverein.de
END:VEVENT
BEGIN:VEVENT
DTSTART;TZID=Europe/Berlin:20210925T150000
DTEND;TZID=Europe/Berlin:20210926T190000
DTSTAMP:20260421T215600
CREATED:20210908T080444Z
LAST-MODIFIED:20210909T090840Z
UID:9281-1632582000-1632682800@rellinger-turnverein.de
SUMMARY:Handball Heimspiel Wochenende
DESCRIPTION:Wir laden herzlich alle Handballbegeisterten zum Heimspiel Wochenende der RTV Manschaften am 25. + 26. September in die große Halle Egenbüttel ein. Für das leibliche Wohl vor Ort versorgen wir euch mit frischem Kaffee und leckeren Kuchen in unserer Cafeteria. Der Zutritt zu den Handballspielen ist nur mit der 3G-Regel möglich\, d.h. geimpft\, genesen oder getestet. Die 3G’s werden im Eingangsbereich der Halle kontrolliert. Zur Kontaktnachverfolgung nutzen wir vor Ort die Luca App. \nBitte beachtet vor Ort das Hygienekonzept. \nSamstag 25.09.2021 \n15:00 Uhr    mD2    Rellinger TV2  vs.  Elmshorner HT 2\n16:30 Uhr    mA2    Rellinger TV3  vs.  Niendorfer TSV\n18:30 Uhr    wB    Rellinger TV  vs.  HSG Pinnau \nSonntag 26.09.2021 \n12:15 Uhr    wC2    Rellinger TV2  vs.  Elmshorner HT\n14:00 Uhr    mB2    Rellinger TV2  vs.  TSV Ellerbek\n15:45 Uhr    wC1    Rellinger TV  vs.  TSV Uetersen\n17:30 Uhr    mB3    Rellinger TV3  vs.  FC St. Pauli \n 
URL:https://rellinger-turnverein.de/termin/handball-heimspiel-wochenende-3/
LOCATION:Schleswig-Holstein
ATTACH;FMTTYPE=image/jpeg:https://rellinger-turnverein.de/wp-content/uploads/2018/09/Handball-1-D-7m-Kupi-Kopie.jpg
END:VEVENT
END:VCALENDAR