BEGIN:VCALENDAR
VERSION:2.0
PRODID:-//Rellinger Turnverein - ECPv5.9.1//NONSGML v1.0//EN
CALSCALE:GREGORIAN
METHOD:PUBLISH
X-WR-CALNAME:Rellinger Turnverein
X-ORIGINAL-URL:https://rellinger-turnverein.de
X-WR-CALDESC:Events for Rellinger Turnverein
BEGIN:VTIMEZONE
TZID:Europe/Berlin
BEGIN:DAYLIGHT
TZOFFSETFROM:+0100
TZOFFSETTO:+0200
TZNAME:CEST
DTSTART:20210328T010000
END:DAYLIGHT
BEGIN:STANDARD
TZOFFSETFROM:+0200
TZOFFSETTO:+0100
TZNAME:CET
DTSTART:20211031T010000
END:STANDARD
END:VTIMEZONE
BEGIN:VEVENT
DTSTART;TZID=Europe/Berlin:20210918T143000
DTEND;TZID=Europe/Berlin:20210919T210000
DTSTAMP:20260421T215518
CREATED:20210908T074644Z
LAST-MODIFIED:20210909T090720Z
UID:9278-1631975400-1632085200@rellinger-turnverein.de
SUMMARY:Handball Heimspiel Wochenende
DESCRIPTION:Wir laden herzlich alle Handballbegeisterten zum Heimspiel Wochenende der RTV Manschaften am 18. + 19. September in die große Halle Egenbüttel ein. Für das leibliche Wohl vor Ort versorgen wir euch mit frischem Kaffee und leckeren Kuchen in unserer Cafeteria. Der Zutritt zu den Handballspielen ist nur mit der 3G-Regel möglich\, d.h. geimpft\, genesen oder getestet. Die 3G’s werden im Eingangsbereich der Halle kontrolliert. Zur Kontaktnachverfolgung nutzen wir vor Ort die Luca App. \nBitte beachtet vor Ort das Hygienekonzept. \nSamstag 18.09.2021 \n14:30 Uhr    mD1    Rellinger TV  vs.  Elmshorner HT\n16:00 Uhr    wD1    Rellinger TV  vs.  HL Buchholz08-Rosengarten\n18:00 Uhr    mB1    Rellinger TV  vs.  TuS Aumühle-Wohltorf\n20:00 Uhr    H1    Rellinger TV  vs.  TH Quickborn \nSonntag 19.09.2021  \n10:45 Uhr    wD2    Rellinger TV2  vs.  TuS Appen\n12:00 Uhr    wC2    Rellinger TV2  vs.  HTS/BW96 Handball 2\n13:45 Uhr    mC1    Rellinger TV  vs.  SG Hamburg-Nord\n15:30 Uhr    D1    Rellinger TV  vs.  HTS/BW96 Handball 2\n17:30 Uhr    mC2    Rellinger TV2  vs.  HTS/BW96 Handball 2\n19:15 Uhr    H2    Rellinger TV2  vs.  HSG Elbvororte 3
URL:https://rellinger-turnverein.de/termin/handball-heimspiel-wochenende-2/
LOCATION:Schleswig-Holstein
ATTACH;FMTTYPE=image/jpeg:https://rellinger-turnverein.de/wp-content/uploads/2018/09/IMG-20180909-WA0017.jpg
END:VEVENT
END:VCALENDAR