BEGIN:VCALENDAR
VERSION:2.0
PRODID:-//Rellinger Turnverein - ECPv5.9.1//NONSGML v1.0//EN
CALSCALE:GREGORIAN
METHOD:PUBLISH
X-WR-CALNAME:Rellinger Turnverein
X-ORIGINAL-URL:https://rellinger-turnverein.de
X-WR-CALDESC:Events for Rellinger Turnverein
BEGIN:VTIMEZONE
TZID:Europe/Berlin
BEGIN:DAYLIGHT
TZOFFSETFROM:+0100
TZOFFSETTO:+0200
TZNAME:CEST
DTSTART:20210328T010000
END:DAYLIGHT
BEGIN:STANDARD
TZOFFSETFROM:+0200
TZOFFSETTO:+0100
TZNAME:CET
DTSTART:20211031T010000
END:STANDARD
END:VTIMEZONE
BEGIN:VEVENT
DTSTART;TZID=Europe/Berlin:20210829T150000
DTEND;TZID=Europe/Berlin:20210829T170000
DTSTAMP:20260421T231714
CREATED:20210812T085354Z
LAST-MODIFIED:20210812T085354Z
UID:9230-1630249200-1630256400@rellinger-turnverein.de
SUMMARY:Ersatztermin: Fototermin RTV-ÜL und Mitarbeiter
DESCRIPTION:Der Fototermin für alle RTV-Übungsleiter\, Mitarbeiter\, Vorstand und Funktionäre findet am Samstag\, 28. August 2021 von 10.00 – 12.00 Uhr statt. Treffpunkt: Vereinsheim. Bitte zieht zu diesem Termin ein Vereinsshirt an. Sollte jemand kein Shirt besitzen\, so kann es vor Ort gestellt werden. \nErsatztermin: Sonntag\, 29. August 2021 von 15.00 – 17.00 Uhr statt.
URL:https://rellinger-turnverein.de/termin/ersatztermin-fototermin-rtv-uel-und-mitarbeiter/
LOCATION:Garten am RTV-Turnerheim\, Hohle Straße 14\, Rellingen\, Schleswig-Holstein\, 25462\, Deutschland
ATTACH;FMTTYPE=image/jpeg:https://rellinger-turnverein.de/wp-content/uploads/2018/01/news_turnerheim_196x114.jpg
ORGANIZER;CN="Rellinger%20Turnverein%20von%201900%20e.V.":MAILTO:info@rellinger-turnverein.de
END:VEVENT
END:VCALENDAR