BEGIN:VCALENDAR
VERSION:2.0
PRODID:-//Rellinger Turnverein - ECPv5.9.1//NONSGML v1.0//EN
CALSCALE:GREGORIAN
METHOD:PUBLISH
X-WR-CALNAME:Rellinger Turnverein
X-ORIGINAL-URL:https://rellinger-turnverein.de
X-WR-CALDESC:Veranstaltungen für Rellinger Turnverein
BEGIN:VTIMEZONE
TZID:Europe/Berlin
BEGIN:DAYLIGHT
TZOFFSETFROM:+0100
TZOFFSETTO:+0200
TZNAME:CEST
DTSTART:20240331T010000
END:DAYLIGHT
BEGIN:STANDARD
TZOFFSETFROM:+0200
TZOFFSETTO:+0100
TZNAME:CET
DTSTART:20241027T010000
END:STANDARD
END:VTIMEZONE
BEGIN:VEVENT
DTSTART;TZID=Europe/Berlin:20240921T120000
DTEND;TZID=Europe/Berlin:20240921T180000
DTSTAMP:20260421T112644
CREATED:20240506T110716Z
LAST-MODIFIED:20240508T092734Z
UID:14635-1726920000-1726941600@rellinger-turnverein.de
SUMMARY:Weltkindertag
DESCRIPTION:Die Freiwilligen Feuerwehren Egenbüttel und Rellingen veranstalten am 21. September 2024 zusammen mit der Gemeinde Rellingen von 12.00 bis 18.00 Uhr einen Blaulicht- und Weltkindertag. \nDie Veranstaltung findet an der Caspar-Voght-Schule und der Feuerwache Egenbüttel statt. Weitere Informationen und das Programm folgen. \n\n 
URL:https://rellinger-turnverein.de/termin/weltkindertag/
LOCATION:Sportgelände an der Caspar-Voght-Schule\, Schulweg\, Rellingen\, 25462\, Deutschland
END:VEVENT
END:VCALENDAR