BEGIN:VCALENDAR
VERSION:2.0
PRODID:-//Rellinger Turnverein - ECPv5.9.1//NONSGML v1.0//EN
CALSCALE:GREGORIAN
METHOD:PUBLISH
X-WR-CALNAME:Rellinger Turnverein
X-ORIGINAL-URL:https://rellinger-turnverein.de
X-WR-CALDESC:Veranstaltungen für Rellinger Turnverein
BEGIN:VTIMEZONE
TZID:Europe/Berlin
BEGIN:DAYLIGHT
TZOFFSETFROM:+0100
TZOFFSETTO:+0200
TZNAME:CEST
DTSTART:20210328T010000
END:DAYLIGHT
BEGIN:STANDARD
TZOFFSETFROM:+0200
TZOFFSETTO:+0100
TZNAME:CET
DTSTART:20211031T010000
END:STANDARD
END:VTIMEZONE
BEGIN:VEVENT
DTSTART;TZID=Europe/Berlin:20211105T174500
DTEND;TZID=Europe/Berlin:20211105T210000
DTSTAMP:20260421T202009
CREATED:20211021T091550Z
LAST-MODIFIED:20211021T091550Z
UID:9765-1636134300-1636146000@rellinger-turnverein.de
SUMMARY:Tischtennis Heimspiel Jugend
DESCRIPTION:Wir laden alle Tischtennisbegeisterten herzlich zu den Heimspielen der RTV Jugendmannschaft am 05.11.2021 in die Ellerbeker Weg Halle ein. Der Zutritt zu den Tischtennisspielen ist nur mit der 3G-Regel möglich\, d.h. geimpft\, genesen oder getestet. Die 3G’s werden im Eingangsbereich der Halle kontrolliert. \nWir freuen uns auf eure Unterstützung. \nFreitag\, 05.11.2021 \n17.45 Uhr    Jungen 18    Rellinger TV  vs.  SG TTC GWR/TuS Osdorf
URL:https://rellinger-turnverein.de/termin/tischtennis-heimspiel-jugend/
LOCATION:Sporthalle Ellerbeker Weg\, Ellerbeker Weg 6\, Rellingen\, Schleswig-Holstein\, 25462\, Deutschland
ATTACH;FMTTYPE=image/jpeg:https://rellinger-turnverein.de/wp-content/uploads/2021/10/event_tischtennis02_114x80jpg.jpg
ORGANIZER;CN="Rellinger%20Turnverein%20von%201900%20e.V.":MAILTO:info@rellinger-turnverein.de
END:VEVENT
END:VCALENDAR