BEGIN:VCALENDAR
VERSION:2.0
PRODID:-//Rellinger Turnverein - ECPv5.9.1//NONSGML v1.0//EN
CALSCALE:GREGORIAN
METHOD:PUBLISH
X-WR-CALNAME:Rellinger Turnverein
X-ORIGINAL-URL:https://rellinger-turnverein.de
X-WR-CALDESC:Veranstaltungen für Rellinger Turnverein
BEGIN:VTIMEZONE
TZID:Europe/Berlin
BEGIN:DAYLIGHT
TZOFFSETFROM:+0100
TZOFFSETTO:+0200
TZNAME:CEST
DTSTART:20220327T010000
END:DAYLIGHT
BEGIN:STANDARD
TZOFFSETFROM:+0200
TZOFFSETTO:+0100
TZNAME:CET
DTSTART:20221030T010000
END:STANDARD
END:VTIMEZONE
BEGIN:VEVENT
DTSTART;TZID=Europe/Berlin:20220903T143000
DTEND;TZID=Europe/Berlin:20220903T200000
DTSTAMP:20260422T092725
CREATED:20220825T120727Z
LAST-MODIFIED:20220902T110303Z
UID:11684-1662215400-1662235200@rellinger-turnverein.de
SUMMARY:Saisoneröffnung der Handballabteilung
DESCRIPTION:Am 3. September 2022 eröffnet die Handballabteilung ihre Saison. Von 14.30 Uhr bis 20.00 Uhr gibt es ein großes Programm mit Tombola\, Kinderschminken\, Ballonkünstler und natürlich mit Essen und Trinken. Außerdem gibt es abends ab 18.30 Uhr einen Live Open Air Auftritt der Rockband „Baltique“. \nGroße Tombola für die Ukraine Der Countdown zur Saisoneröffnung der RTV-Handballer am Samstag läuft. Am 3. September ab 14.30 Uhr steigt in und vor der Sporthalle Egenbüttel ein buntes Programm mit jeder Menge Handball\, leckeren Snacks\, Getränken\, Kinder-Attraktionen und einer tollen Aktion für einen guten Zweck. Der RTV und die Organisation #WeAreAllUkrainians bieten den Besuchern und Teilnehmern der Veranstaltung eine Tombola mit außergewöhnlichen Preisen an. Jedes Los kostet 3 Euro\, bei mehr als 2000 Losen winken Gewinne im Wert von mehr als 20.000 Euro. „Das Besondere ist\, dass jedes Los garantiert einen Kleingewinn bringt und alle Einnahmen ohne Einschränkung den Kriegsleidenden in oder aus der Ukraine zugute kommen“\, freut sich RTV-Sportlehrerin Mellie Pletz-Mendes über die Kooperation. \nTatsächlich dürften die Preise des Loseziehens manchen Rellinger auch ungeachtet der Handball-Saisoneröffnung zur Sporthalle locken. Dank großzügiger Unterstützer wie DS Produkte\, Edding\, diversen Touristen-Attraktionen in und um Hamburg\, Restaurants\, Verlage\, Hotels und großen Marken stehen reizvolle Preise parat: REWE-Gutscheine\, Präsentkörbe\, Block House- und Jim Block-Gutscheine\, Kaffeemaschinen\, BBQ Sets\, ein Strandkorb mit Bullaugen\, ein Stand Up Paddleboard\, Stadionführungen im Volksparkstadion\, Plüschtiere\, Bücher\, Beefer\, Adidas WM-Fußbälle\, Ukraine-Schals bis hin zu exklusiven Hotelaufenthalten in Wien und sogar für ein Wochenende im berühmten Stanglwirt in Tirol. Sogar ein handsigniertes Liverpool-Trikot von Kulttrainer Jürgen Klopp ist dabei. „Für den einen oder anderen Sportler könnte natürlich auch die Kraftstation im Wert von 800 Euro interessant sein“\, weiß Mellie Pletz-Mendes\, die sich schon auf den Start der Tombola um 14.30 Uhr freut\, „wir hoffen sehr\, dass bis spätestens 19 Uhr alle Lose vergriffen sind.“ Mit den Einnahmen unterstützt die Initiative #WeAreAllUkrainians Wiederaufbauprojekte in den ukrainischen Kriegsgebieten\, auch für Sporteinrichtungen und Spielplätze. Zudem werden Förderprojekte für Geflüchtete in Deutschland finanziert.
URL:https://rellinger-turnverein.de/termin/saisoneroeffnung-der-handballabteilung/
LOCATION:Große Sporthalle Egenbüttel\, Schulweg 2-4\, Rellingen\, Schleswig-Holstein\, 25462\, Deutschland
ATTACH;FMTTYPE=image/png:https://rellinger-turnverein.de/wp-content/uploads/2022/08/veranstaltung_saisoneroeffnung.png
ORGANIZER;CN="Rellinger%20Turnverein%20von%201900%20e.V.":MAILTO:info@rellinger-turnverein.de
END:VEVENT
END:VCALENDAR