BEGIN:VCALENDAR
VERSION:2.0
PRODID:-//Rellinger Turnverein - ECPv5.9.1//NONSGML v1.0//EN
CALSCALE:GREGORIAN
METHOD:PUBLISH
X-WR-CALNAME:Rellinger Turnverein
X-ORIGINAL-URL:https://rellinger-turnverein.de
X-WR-CALDESC:Veranstaltungen für Rellinger Turnverein
BEGIN:VTIMEZONE
TZID:Europe/Berlin
BEGIN:DAYLIGHT
TZOFFSETFROM:+0100
TZOFFSETTO:+0200
TZNAME:CEST
DTSTART:20220327T010000
END:DAYLIGHT
BEGIN:STANDARD
TZOFFSETFROM:+0200
TZOFFSETTO:+0100
TZNAME:CET
DTSTART:20221030T010000
END:STANDARD
END:VTIMEZONE
BEGIN:VEVENT
DTSTART;TZID=Europe/Berlin:20220618T160000
DTEND;TZID=Europe/Berlin:20220618T200000
DTSTAMP:20260422T061300
CREATED:20211215T113531Z
LAST-MODIFIED:20220610T141630Z
UID:10183-1655568000-1655582400@rellinger-turnverein.de
SUMMARY:RTV-Sommerfest
DESCRIPTION:Wir laden alle Mitglieder und Freunde des RTV zum Sommerfest am Samstag\, 18. Juni 2022 von 16.00 – 20.00 Uhr in den Garten am RTV-Turnerheim ein. Für alle Gäste gibt es gegrillte Würste und Fleisch\, sowie kühle Getränke und sommerliche Musik. Wir freuen uns auf einen gemütlichen Nachmittag in netter Runde mit euch allen. \n 
URL:https://rellinger-turnverein.de/termin/rtv-sommerfest/
LOCATION:Garten am RTV-Turnerheim\, Hohle Straße 14\, Rellingen\, Schleswig-Holstein\, 25462\, Deutschland
ATTACH;FMTTYPE=image/jpeg:https://rellinger-turnverein.de/wp-content/uploads/2021/12/event_sommerfest_114x80jpg.jpg
ORGANIZER;CN="Rellinger%20Turnverein%20von%201900%20e.V.":MAILTO:info@rellinger-turnverein.de
END:VEVENT
END:VCALENDAR