BEGIN:VCALENDAR
VERSION:2.0
PRODID:-//Rellinger Turnverein - ECPv5.9.1//NONSGML v1.0//EN
CALSCALE:GREGORIAN
METHOD:PUBLISH
X-WR-CALNAME:Rellinger Turnverein
X-ORIGINAL-URL:https://rellinger-turnverein.de
X-WR-CALDESC:Veranstaltungen für Rellinger Turnverein
BEGIN:VTIMEZONE
TZID:Europe/Berlin
BEGIN:DAYLIGHT
TZOFFSETFROM:+0100
TZOFFSETTO:+0200
TZNAME:CEST
DTSTART:20220327T010000
END:DAYLIGHT
BEGIN:STANDARD
TZOFFSETFROM:+0200
TZOFFSETTO:+0100
TZNAME:CET
DTSTART:20221030T010000
END:STANDARD
END:VTIMEZONE
BEGIN:VEVENT
DTSTART;TZID=Europe/Berlin:20220704T160000
DTEND;TZID=Europe/Berlin:20220704T170000
DTSTAMP:20260422T092054
CREATED:20220615T122015Z
LAST-MODIFIED:20220616T184653Z
UID:11153-1656950400-1656954000@rellinger-turnverein.de
SUMMARY:Sommerferiengrogramm Mitmachzirkus "ReTu"
DESCRIPTION:Am 4. Juli 2022 findet von 16.00 – 17.00 Uhr in der Schmidt-Schaller-Halle der Mitmachzirkus „Retu“ statt. \nKinder im Alter von 7 – 12 Jahren können hier gerne ohne vorherige Anmeldung vorbeikommen. \nUnser Trainer Sven freut sich sehr auf viele Teilnehmer/innen. \n 
URL:https://rellinger-turnverein.de/termin/mitmachzirkus-retu-schnupperstunde/
LOCATION:Schmidt-Schaller-Halle\, Jahnstraße 1\, Rellingen\, Schleswig-Holstein\, 25462\, Deutschland
ATTACH;FMTTYPE=image/jpeg:https://rellinger-turnverein.de/wp-content/uploads/2022/06/retu.jpg
ORGANIZER;CN="Rellinger%20Turnverein%20von%201900%20e.V.":MAILTO:info@rellinger-turnverein.de
END:VEVENT
END:VCALENDAR