BEGIN:VCALENDAR
VERSION:2.0
PRODID:-//Rellinger Turnverein - ECPv5.9.1//NONSGML v1.0//EN
CALSCALE:GREGORIAN
METHOD:PUBLISH
X-WR-CALNAME:Rellinger Turnverein
X-ORIGINAL-URL:https://rellinger-turnverein.de
X-WR-CALDESC:Veranstaltungen für Rellinger Turnverein
BEGIN:VTIMEZONE
TZID:Europe/Berlin
BEGIN:DAYLIGHT
TZOFFSETFROM:+0100
TZOFFSETTO:+0200
TZNAME:CEST
DTSTART:20210328T010000
END:DAYLIGHT
BEGIN:STANDARD
TZOFFSETFROM:+0200
TZOFFSETTO:+0100
TZNAME:CET
DTSTART:20211031T010000
END:STANDARD
END:VTIMEZONE
BEGIN:VEVENT
DTSTART;TZID=Europe/Berlin:20210922T190000
DTEND;TZID=Europe/Berlin:20210922T210000
DTSTAMP:20260421T215356
CREATED:20210714T122659Z
LAST-MODIFIED:20210913T082558Z
UID:7663-1632337200-1632344400@rellinger-turnverein.de
SUMMARY:RTV-Mitgliederversammlung
DESCRIPTION:Wir laden herzlich alle RTV-Mitglieder zur Mitgliederversammlung am Mittwoch\, 22. September um 19.00 Uhr in die Schmidt-Schaller-Halle in Rellingen ein. Die Tagesordnung ist unten angefügt und hängt im RTV-Turnerheim ausgehängt. Für das leibliche Wohl vor Ort sorgt das RTV-Serviceteam mit Getränken und kleinen Snacks. Der Zutritt zur Mitgliederversammlung ist nur mit der 3G-Regel möglich\, d.h. geimpft\, genesen oder getestet. Die 3G’s werden im Eingangsbereich der Schmidt-Schaller-Halle kontrolliert. \nTagesordnung Mitgliederversammlung am 22. September 2021
URL:https://rellinger-turnverein.de/termin/mitgliederversammlung/
LOCATION:Schmidt-Schaller-Halle\, Jahnstraße 1\, Rellingen\, Schleswig-Holstein\, 25462\, Deutschland
ATTACH;FMTTYPE=image/jpeg:https://rellinger-turnverein.de/wp-content/uploads/2018/03/news_mitgliederversammlung_196x114.jpg
ORGANIZER;CN="Rellinger%20Turnverein%20von%201900%20e.V.":MAILTO:info@rellinger-turnverein.de
END:VEVENT
END:VCALENDAR