BEGIN:VCALENDAR
VERSION:2.0
PRODID:-//Rellinger Turnverein - ECPv5.9.1//NONSGML v1.0//EN
CALSCALE:GREGORIAN
METHOD:PUBLISH
X-WR-CALNAME:Rellinger Turnverein
X-ORIGINAL-URL:https://rellinger-turnverein.de
X-WR-CALDESC:Veranstaltungen für Rellinger Turnverein
BEGIN:VTIMEZONE
TZID:Europe/Berlin
BEGIN:DAYLIGHT
TZOFFSETFROM:+0100
TZOFFSETTO:+0200
TZNAME:CEST
DTSTART:20230326T010000
END:DAYLIGHT
BEGIN:STANDARD
TZOFFSETFROM:+0200
TZOFFSETTO:+0100
TZNAME:CET
DTSTART:20231029T010000
END:STANDARD
END:VTIMEZONE
BEGIN:VEVENT
DTSTART;TZID=Europe/Berlin:20230531T190000
DTEND;TZID=Europe/Berlin:20230531T210000
DTSTAMP:20260422T001432
CREATED:20230119T123238Z
LAST-MODIFIED:20230503T152343Z
UID:12406-1685559600-1685566800@rellinger-turnverein.de
SUMMARY:Mitgliederversammlung
DESCRIPTION:Rellinger Turnverein von 1900 e.V. \nStand: 03.05.2023 \nEinladung zurordentlichen RTV-Mitgliederversammlung 2023 \nam Mittwoch\, 31.05.2023 um 19.00 Uhr \nim RTV-Turnerheim\, Hohle Straße 14\, 25462 Rellingen \nVorläufige Tagesordnung \n1. Begrüßung und Eröffnung der Mitgliederversammlung \n2. Feststellung der Beschlussfähigkeit \n3. Bericht des Vorstandes\na) Finanzbericht\nb) Bericht der Kassenprüfer\nc) Aussprache\nd) Entlastung des Vorstandes \n4. Genehmigung des Haushaltsplanes \n5. Anpassung des Mitgliedsbeitrags \n6. Wahlen\na) 1. Stellvertreter/in – (3 Jahre)\nb) 2. Stellvertreter/in – (1 Jahr)\nc) 3. Stellvertreter/in – (3 Jahre)\nd) 3. Kassenprüfer/in – (3 Jahre)\ne) 2. Ehrenrat – (3 Jahre)\nf) 3. Ehrenrat – (1 Jahr)\ng) Pressewart/in/ Medienbeauftragte/r \n7. Beschlussfassung über vorliegende Anträge \n8. Ehrungen \n9. Berichte der Abteilungen \nAnträge für die Versammlung sind nach § 10 der Satzung zwei Wochen vor dem Versammlungs-termin schriftlich beim Vorstand zu stellen. Die endgültige Tagesordnung ist nach § 10 der Satzung 10 Tage vor dem Versammlungstermin in der Geschäftsstelle erhältlich. \nDer RTV Vorstand
URL:https://rellinger-turnverein.de/termin/mitgliederversammlung-2/
LOCATION:Festsaal im RTV-Turnerheim\, Hohle Straße 14\, Rellingen\, Schleswig-Holstein\, 25462\, Deutschland
ATTACH;FMTTYPE=image/jpeg:https://rellinger-turnverein.de/wp-content/uploads/2022/04/news_mitgliederversammlung_475x333-1.jpg
ORGANIZER;CN="Rellinger%20Turnverein%20von%201900%20e.V.":MAILTO:info@rellinger-turnverein.de
END:VEVENT
END:VCALENDAR