BEGIN:VCALENDAR
VERSION:2.0
PRODID:-//Rellinger Turnverein - ECPv5.9.1//NONSGML v1.0//EN
CALSCALE:GREGORIAN
METHOD:PUBLISH
X-WR-CALNAME:Rellinger Turnverein
X-ORIGINAL-URL:https://rellinger-turnverein.de
X-WR-CALDESC:Veranstaltungen für Rellinger Turnverein
BEGIN:VTIMEZONE
TZID:Europe/Berlin
BEGIN:DAYLIGHT
TZOFFSETFROM:+0100
TZOFFSETTO:+0200
TZNAME:CEST
DTSTART:20220327T010000
END:DAYLIGHT
BEGIN:STANDARD
TZOFFSETFROM:+0200
TZOFFSETTO:+0100
TZNAME:CET
DTSTART:20221030T010000
END:STANDARD
END:VTIMEZONE
BEGIN:VEVENT
DTSTART;TZID=Europe/Berlin:20221113T150000
DTEND;TZID=Europe/Berlin:20221113T163000
DTSTAMP:20260422T155524
CREATED:20211215T082758Z
LAST-MODIFIED:20221110T125731Z
UID:10159-1668351600-1668357000@rellinger-turnverein.de
SUMMARY:Jubiläums-Spiel- und Spaß-Olympiade
DESCRIPTION:DIE VERANSTALTUNG IST AUSGEBUCHT !\nDie 10. RTV-Spiel- und Spaß-Olympiade findet am Sonntag\, 13. November 2022 von 15.00 – 16.30 Uhr im Rahmen des Kinderturn-Sonntags für alle Kinder ab dem Laufen bis Schulbeginn statt. \nAlle Kinder die schon laufen können\, aber noch nicht zur Schule gehen\, sind herzlich eingeladen. Bitte bringt Sportzeug und Stoppersocken oder Turnschläppchen mit (auch für die Eltern – keine Straßenschuhe). \nUnsere Cafeteria verwöhnt euch wieder mit Kuchen und Getränken. Zudem wird es in diesem Jahr auch wieder eine kleine Tombola mit tollen Gewinnpreisen geben. Der Erlös geht eins zu eins in die Kinderturngruppen. \nWeitere Infos zur Veranstaltungfolgen. \nWir freuen uns auf Euch! \n 
URL:https://rellinger-turnverein.de/termin/jubilaeums-spiel-und-spass-olympiade/
LOCATION:Große Sporthalle Egenbüttel\, Schulweg 2-4\, Rellingen\, Schleswig-Holstein\, 25462\, Deutschland
ATTACH;FMTTYPE=image/jpeg:https://rellinger-turnverein.de/wp-content/uploads/2022/03/SuSo.jpg
ORGANIZER;CN="Rellinger%20Turnverein%20von%201900%20e.V.":MAILTO:info@rellinger-turnverein.de
END:VEVENT
END:VCALENDAR