BEGIN:VCALENDAR
VERSION:2.0
PRODID:-//Rellinger Turnverein - ECPv5.9.1//NONSGML v1.0//EN
CALSCALE:GREGORIAN
METHOD:PUBLISH
X-WR-CALNAME:Rellinger Turnverein
X-ORIGINAL-URL:https://rellinger-turnverein.de
X-WR-CALDESC:Veranstaltungen für Rellinger Turnverein
BEGIN:VTIMEZONE
TZID:Europe/Berlin
BEGIN:DAYLIGHT
TZOFFSETFROM:+0100
TZOFFSETTO:+0200
TZNAME:CEST
DTSTART:20220327T010000
END:DAYLIGHT
BEGIN:STANDARD
TZOFFSETFROM:+0200
TZOFFSETTO:+0100
TZNAME:CET
DTSTART:20221030T010000
END:STANDARD
END:VTIMEZONE
BEGIN:VEVENT
DTSTART;TZID=Europe/Berlin:20220219T100000
DTEND;TZID=Europe/Berlin:20220219T160000
DTSTAMP:20260422T044021
CREATED:20220118T104950Z
LAST-MODIFIED:20220202T132022Z
UID:10300-1645264800-1645286400@rellinger-turnverein.de
SUMMARY:Impfaktionstag
DESCRIPTION:Am Samstag\, 19. Februar 2022 findet ein Impfaktionstag beim Rellinger Turnverein statt. Von 10.00 – 16.00 Uhr wird ein mobiles Impfteam des Landes Erst-\, Zweit- und Auffrischungsimpfungen ohne Voranmeldung im RTV-Turnerheim (Hohle Str. 14\, 25462 Rellingen) durchführen. Nach aktuellen Informationen steht der Impfstoff Biontech und Moderna zur Verfügung. Die Entscheidung\, wer welchen Impfstoff erhält obliegt dabei dem Impfteam. Des Weiteren werden Impfungen für Jugendliche ab 12 Jahren angeboten. Es muss der Impfpass und das Ausweisdokument vorgelegt werden.   \nGeben Sie die Information auch an sozial benachteiligte Nachbarn\, Freunde oder Ihnen bekannte Menschen ohne Internet in Rellingen weiter. 
URL:https://rellinger-turnverein.de/termin/impfaktionstag/
LOCATION:Festsaal im RTV-Turnerheim\, Hohle Straße 14\, Rellingen\, Schleswig-Holstein\, 25462\, Deutschland
ATTACH;FMTTYPE=image/jpeg:https://rellinger-turnverein.de/wp-content/uploads/2022/01/event_impfaktion_114x80jpg.jpg
END:VEVENT
END:VCALENDAR