BEGIN:VCALENDAR
VERSION:2.0
PRODID:-//Rellinger Turnverein - ECPv5.9.1//NONSGML v1.0//EN
CALSCALE:GREGORIAN
METHOD:PUBLISH
X-WR-CALNAME:Rellinger Turnverein
X-ORIGINAL-URL:https://rellinger-turnverein.de
X-WR-CALDESC:Veranstaltungen für Rellinger Turnverein
BEGIN:VTIMEZONE
TZID:Europe/Berlin
BEGIN:DAYLIGHT
TZOFFSETFROM:+0100
TZOFFSETTO:+0200
TZNAME:CEST
DTSTART:20210328T010000
END:DAYLIGHT
BEGIN:STANDARD
TZOFFSETFROM:+0200
TZOFFSETTO:+0100
TZNAME:CET
DTSTART:20211031T010000
END:STANDARD
END:VTIMEZONE
BEGIN:VEVENT
DTSTART;TZID=Europe/Berlin:20210911T140000
DTEND;TZID=Europe/Berlin:20210912T200000
DTSTAMP:20260421T215519
CREATED:20210907T095624Z
LAST-MODIFIED:20210909T090403Z
UID:9269-1631368800-1631476800@rellinger-turnverein.de
SUMMARY:Handball Heimspiel Wochenende
DESCRIPTION:Wir laden herzlich alle Handballbegeisterten zum Heimspiel Wochenende der RTV Manschaften am 11. + 12. September in die große Halle Egenbüttel ein. Für das leibliche Wohl vor Ort versorgen wir euch mit frischem Kaffee und leckeren Kuchen in unserer Cafeteria. Der Zutritt zu den Handballspielen ist nur mit der 3G-Regel möglich\, d.h. geimpft\, genesen oder getestet. Die 3G’s werden im Eingangsbereich der Halle kontrolliert. Zur Kontaktnachverfolgung nutzen wir vor Ort die Luca App. \nBitte beachtet vor Ort das Hygienekonzept. \nSamstag 11.09.2021 \n14:00 Uhr    mE    Rellinger TV  vs.  Niendorfer TSV\n16:00 Uhr    mA2    Rellinger TV 3  vs.  Ahrensburger TSV\n18:00 Uhr    mA1    Rellinger TV  vs.  HTS/BW96 Handball    \nSonntag 12.09.2021 \n 10:45 Uhr    wE    Rellinger TV  vs.  SC Alstertal-Langenhorn\n 12:15 Uhr    wC1    Rellinger TV  vs.  SG Hamburg-Nord 2\n 14:00 Uhr      mB2    Rellinger TV 2  vs.  Elmshorner HT\n 16:00 Uhr    Sen    Rellinger TV  vs.   1. HC Quickborn\n 18:00 Uhr    wB    Rellinger TV  vs.  HT Norderstedt     
URL:https://rellinger-turnverein.de/termin/handball-heimspiel-wochenende/
LOCATION:Große Sporthalle Egenbüttel\, Schulweg 2-4\, Rellingen\, Schleswig-Holstein\, 25462\, Deutschland
ATTACH;FMTTYPE=image/jpeg:https://rellinger-turnverein.de/wp-content/uploads/2018/10/DSC_7439.jpg
ORGANIZER;CN="Rellinger%20Turnverein%20von%201900%20e.V.":MAILTO:info@rellinger-turnverein.de
END:VEVENT
END:VCALENDAR