BEGIN:VCALENDAR
VERSION:2.0
PRODID:-//Rellinger Turnverein - ECPv5.9.1//NONSGML v1.0//EN
CALSCALE:GREGORIAN
METHOD:PUBLISH
X-WR-CALNAME:Rellinger Turnverein
X-ORIGINAL-URL:https://rellinger-turnverein.de
X-WR-CALDESC:Veranstaltungen für Rellinger Turnverein
BEGIN:VTIMEZONE
TZID:Europe/Berlin
BEGIN:DAYLIGHT
TZOFFSETFROM:+0100
TZOFFSETTO:+0200
TZNAME:CEST
DTSTART:20210328T010000
END:DAYLIGHT
BEGIN:STANDARD
TZOFFSETFROM:+0200
TZOFFSETTO:+0100
TZNAME:CET
DTSTART:20211031T010000
END:STANDARD
END:VTIMEZONE
BEGIN:VEVENT
DTSTART;TZID=Europe/Berlin:20211029T150000
DTEND;TZID=Europe/Berlin:20211029T170000
DTSTAMP:20260422T015652
CREATED:20211021T082643Z
LAST-MODIFIED:20211027T074951Z
UID:9746-1635519600-1635526800@rellinger-turnverein.de
SUMMARY:Halloween-Gruselspaß: Kürbisschnitzen
DESCRIPTION:Der Rellinger Turnverein\, das Team vom Rellinger Friedhof und die Kirchengemeinde Rellingen wünschen viel Spaß und Erfolg auf diesem besonderen Halloween-Event. Ihr seid herzlich willkommen. Beachtet bitte die derzeitig gültigen Abstands- und Hygieneregeln. \nKürbisschnitzen – AUSGEBUCHT!\n\nAm Freitag\, 29. Oktober von 15.00 bis 17.00 Uhr auf dem Rellinger Friedhof. Bitte bringt euer Schnitz-Werkzeug selbst mit. Kürbisse werden vor Ort gestellt. \nGruselspaß\nAm Sonntag\, 31. Oktober von 17.00 bis 19.00 Uhr könnt ihr eure Kürbis-Werke auf dem Rellinger Friedhof allesamt bestaunen. Zudem erwarten euch dort noch viele weitere Halloween-Attraktionen\, natürlich verbunden mit Süßigkeiten und kleinen Spielen! \nAlle Plätze sind bereits belegt! \nFreut euch auf gruselige Tage!
URL:https://rellinger-turnverein.de/termin/halloween-gruselspass-kuerbisschnitzen/
LOCATION:Rellinger Friedhof\, Hamburger Str. 24\, Rellingen\, Schleswig-Holstein\, 25462\, Deutschland
ATTACH;FMTTYPE=image/jpeg:https://rellinger-turnverein.de/wp-content/uploads/2021/10/event_halloween_114x80jpg.jpg
ORGANIZER;CN="Rellinger%20Turnverein%20von%201900%20e.V.":MAILTO:info@rellinger-turnverein.de
END:VEVENT
END:VCALENDAR