BEGIN:VCALENDAR
VERSION:2.0
PRODID:-//Rellinger Turnverein - ECPv5.9.1//NONSGML v1.0//EN
CALSCALE:GREGORIAN
METHOD:PUBLISH
X-WR-CALNAME:Rellinger Turnverein
X-ORIGINAL-URL:https://rellinger-turnverein.de
X-WR-CALDESC:Veranstaltungen für Rellinger Turnverein
BEGIN:VTIMEZONE
TZID:Europe/Berlin
BEGIN:DAYLIGHT
TZOFFSETFROM:+0100
TZOFFSETTO:+0200
TZNAME:CEST
DTSTART:20230326T010000
END:DAYLIGHT
BEGIN:STANDARD
TZOFFSETFROM:+0200
TZOFFSETTO:+0100
TZNAME:CET
DTSTART:20231029T010000
END:STANDARD
END:VTIMEZONE
BEGIN:VEVENT
DTSTART;TZID=Europe/Berlin:20230430T170000
DTEND;TZID=Europe/Berlin:20230430T220000
DTSTAMP:20260422T064855
CREATED:20230406T043940Z
LAST-MODIFIED:20230406T043940Z
UID:13134-1682874000-1682892000@rellinger-turnverein.de
SUMMARY:Grill in den Mai
DESCRIPTION:Wir wollen in den Mai grillen\, am Sonntag 30. April ab 17.00 Uhr im Garten am Turnerheim. \nEs gibt Leckeres vom Grill und Getränke zu günstigen Preisen. \nWir bitten um Anmeldung bis zum 23. April 2023 unter info@rellinger-turnverein.de \noder telefonisch unter 04101 22670.
URL:https://rellinger-turnverein.de/termin/grill-in-den-mai/
LOCATION:Garten am RTV-Turnerheim\, Hohle Straße 14\, Rellingen\, Schleswig-Holstein\, 25462\, Deutschland
ATTACH;FMTTYPE=image/jpeg:https://rellinger-turnverein.de/wp-content/uploads/2023/04/475-333grill.jpg
ORGANIZER;CN="Rellinger%20Turnverein%20von%201900%20e.V.":MAILTO:info@rellinger-turnverein.de
END:VEVENT
END:VCALENDAR