BEGIN:VCALENDAR
VERSION:2.0
PRODID:-//Rellinger Turnverein - ECPv5.9.1//NONSGML v1.0//EN
CALSCALE:GREGORIAN
METHOD:PUBLISH
X-WR-CALNAME:Rellinger Turnverein
X-ORIGINAL-URL:https://rellinger-turnverein.de
X-WR-CALDESC:Veranstaltungen für Rellinger Turnverein
BEGIN:VTIMEZONE
TZID:Europe/Berlin
BEGIN:DAYLIGHT
TZOFFSETFROM:+0100
TZOFFSETTO:+0200
TZNAME:CEST
DTSTART:20230326T010000
END:DAYLIGHT
BEGIN:STANDARD
TZOFFSETFROM:+0200
TZOFFSETTO:+0100
TZNAME:CET
DTSTART:20231029T010000
END:STANDARD
END:VTIMEZONE
BEGIN:VEVENT
DTSTART;TZID=Europe/Berlin:20230401T120000
DTEND;TZID=Europe/Berlin:20230402T170000
DTSTAMP:20260422T100841
CREATED:20230123T093401Z
LAST-MODIFIED:20230123T093517Z
UID:12481-1680350400-1680454800@rellinger-turnverein.de
SUMMARY:Frauenkleidermarkt
DESCRIPTION:Für weitere Infos: Rellinger Frauenkleidermarkt
URL:https://rellinger-turnverein.de/termin/frauenkleidermarkt/
LOCATION:Schmidt-Schaller-Halle\, Jahnstraße 1\, Rellingen\, Schleswig-Holstein\, 25462\, Deutschland
ATTACH;FMTTYPE=image/jpeg:https://rellinger-turnverein.de/wp-content/uploads/2023/01/frauenkleidermarkt.jpg
END:VEVENT
END:VCALENDAR