BEGIN:VCALENDAR
VERSION:2.0
PRODID:-//Rellinger Turnverein - ECPv5.9.1//NONSGML v1.0//EN
CALSCALE:GREGORIAN
METHOD:PUBLISH
X-WR-CALNAME:Rellinger Turnverein
X-ORIGINAL-URL:https://rellinger-turnverein.de
X-WR-CALDESC:Veranstaltungen für Rellinger Turnverein
BEGIN:VTIMEZONE
TZID:Europe/Berlin
BEGIN:DAYLIGHT
TZOFFSETFROM:+0100
TZOFFSETTO:+0200
TZNAME:CEST
DTSTART:20210328T010000
END:DAYLIGHT
BEGIN:STANDARD
TZOFFSETFROM:+0200
TZOFFSETTO:+0100
TZNAME:CET
DTSTART:20211031T010000
END:STANDARD
END:VTIMEZONE
BEGIN:VEVENT
DTSTART;TZID=Europe/Berlin:20210905T110000
DTEND;TZID=Europe/Berlin:20210905T140000
DTSTAMP:20260421T220221
CREATED:20210720T130430Z
LAST-MODIFIED:20210720T130739Z
UID:9174-1630839600-1630850400@rellinger-turnverein.de
SUMMARY:Fit Test Aktiv für Senioren plus
DESCRIPTION:Am Tag des Sports veranstaltet der RTV den „Fit Test Aktiv für Senioren plus“ auf dem Sportplatz und in der Sporthalle Ellerbeker Weg. An verschiedenen Übungsstationen absolvieren die Teilnehmer mit und ohne Handicap von 11.00 – 14.00 Uhr kleine Übungen und sammeln so Punkte auf ihrer Laufkarte. Alle Teilnehmer erhalten am Ende als Belohnung eine Urkunde überreicht. Eine kleine Cafeteria sorgt für Getränke und Snacks. \nAn den Übungsstationen geht es um Mobilisation\, Koordination\, Kräftigung\, Gleichgewicht\, Ausdauer und natürlich jeder Menge Spaß. Mitmachen kann jeder – einfach am 5. September zur Halle kommen und am Anmeldepunkt anmelden.
URL:https://rellinger-turnverein.de/termin/fit-test-aktiv-fuer-senioren-plus/
LOCATION:Sporthalle Ellerbeker Weg\, Ellerbeker Weg 6\, Rellingen\, Schleswig-Holstein\, 25462\, Deutschland
ATTACH;FMTTYPE=image/jpeg:https://rellinger-turnverein.de/wp-content/uploads/2021/07/tag_des_sports_sprechblase-e1626786443173.jpg
ORGANIZER;CN="Rellinger%20Turnverein%20von%201900%20e.V.":MAILTO:info@rellinger-turnverein.de
END:VEVENT
END:VCALENDAR