BEGIN:VCALENDAR
VERSION:2.0
PRODID:-//Rellinger Turnverein - ECPv5.9.1//NONSGML v1.0//EN
CALSCALE:GREGORIAN
METHOD:PUBLISH
X-WR-CALNAME:Rellinger Turnverein
X-ORIGINAL-URL:https://rellinger-turnverein.de
X-WR-CALDESC:Veranstaltungen für Rellinger Turnverein
BEGIN:VTIMEZONE
TZID:Europe/Berlin
BEGIN:DAYLIGHT
TZOFFSETFROM:+0100
TZOFFSETTO:+0200
TZNAME:CEST
DTSTART:20220327T010000
END:DAYLIGHT
BEGIN:STANDARD
TZOFFSETFROM:+0200
TZOFFSETTO:+0100
TZNAME:CET
DTSTART:20221030T010000
END:STANDARD
END:VTIMEZONE
BEGIN:VEVENT
DTSTART;TZID=Europe/Berlin:20220904T100000
DTEND;TZID=Europe/Berlin:20220904T140000
DTSTAMP:20260422T124534
CREATED:20220830T111009Z
LAST-MODIFIED:20220830T111009Z
UID:11706-1662285600-1662300000@rellinger-turnverein.de
SUMMARY:Fit Test Aktiv für Senioren plus
DESCRIPTION:Am Tag des Sports\, am 04. September 2022\, veranstaltet der RTV den „Fit Test Aktiv für Senioren plus“ auf dem Sportplatz und in der Sporthalle Ellerbeker Weg. Ab 10.00 Uhr gibt es bereits einen Nordic- Walking-Technik-Kurs auf dem Sportplatz vor der Turnhalle. Eigene Stöcke müssen mitgebracht werden. An verschiedenen Übungsstationen absolvieren die Teilnehmer mit und ohne Handicap dann von 11.00 – 14.00 Uhr kleine Übungen in der Sporthalle Ellerbeker Weg und sammeln so Punkte auf ihrer Laufkarte. Alle Teilnehmer erhalten am Ende als Belohnung eine Urkunde überreicht. An den Übungsstationen geht es um Mobilisation\, Koordination\, Kräftigung\, Gleichgewicht\, Ausdauer und natürlich jeder Menge Spaß.
URL:https://rellinger-turnverein.de/termin/fit-test-aktiv-fuer-senioren-plus-2/
LOCATION:Sporthalle Ellerbeker Weg\, Ellerbeker Weg 6\, Rellingen\, Schleswig-Holstein\, 25462\, Deutschland
ATTACH;FMTTYPE=image/jpeg:https://rellinger-turnverein.de/wp-content/uploads/2022/08/Logo_TdS_2022_Final.jpg
ORGANIZER;CN="Rellinger%20Turnverein%20von%201900%20e.V.":MAILTO:info@rellinger-turnverein.de
END:VEVENT
END:VCALENDAR