BEGIN:VCALENDAR
VERSION:2.0
PRODID:-//Rellinger Turnverein - ECPv5.9.1//NONSGML v1.0//EN
CALSCALE:GREGORIAN
METHOD:PUBLISH
X-WR-CALNAME:Rellinger Turnverein
X-ORIGINAL-URL:https://rellinger-turnverein.de
X-WR-CALDESC:Veranstaltungen für Rellinger Turnverein
BEGIN:VTIMEZONE
TZID:Europe/Berlin
BEGIN:DAYLIGHT
TZOFFSETFROM:+0100
TZOFFSETTO:+0200
TZNAME:CEST
DTSTART:20210328T010000
END:DAYLIGHT
BEGIN:STANDARD
TZOFFSETFROM:+0200
TZOFFSETTO:+0100
TZNAME:CET
DTSTART:20211031T010000
END:STANDARD
END:VTIMEZONE
BEGIN:VEVENT
DTSTART;TZID=Europe/Berlin:20211206T173000
DTEND;TZID=Europe/Berlin:20211206T183000
DTSTAMP:20260422T023640
CREATED:20211111T110349Z
LAST-MODIFIED:20211111T110349Z
UID:9986-1638811800-1638815400@rellinger-turnverein.de
SUMMARY:Der RTV singt...
DESCRIPTION:Am Montag\, 06.12.2021 um 17.30 Uhr findet ein gemeinsames Adventssingen für Jung und Alt  vor dem RTV-Turnerheim statt. \nEs gibt leckere Plätzchen\, Schmalzbrot\, natürlich Glühwein\, Punsch und andere Leckereien. Außerdem gibt es eine kleine Weihnachtsgeschichte und eine musikalische Überraschung. 😊 \nWir bitten um eine Voranmeldung.\n04101-22670 oder per Mail: info@rellinger-turnverein.de
URL:https://rellinger-turnverein.de/termin/der-rtv-singt/
LOCATION:Garten am RTV-Turnerheim\, Hohle Straße 14\, Rellingen\, Schleswig-Holstein\, 25462\, Deutschland
ATTACH;FMTTYPE=image/jpeg:https://rellinger-turnverein.de/wp-content/uploads/2021/11/event_adventssingen_114x80jpg.jpg
ORGANIZER;CN="Rellinger%20Turnverein%20von%201900%20e.V.":MAILTO:info@rellinger-turnverein.de
END:VEVENT
END:VCALENDAR