BEGIN:VCALENDAR
VERSION:2.0
PRODID:-//Rellinger Turnverein - ECPv5.9.1//NONSGML v1.0//EN
CALSCALE:GREGORIAN
METHOD:PUBLISH
X-WR-CALNAME:Rellinger Turnverein
X-ORIGINAL-URL:https://rellinger-turnverein.de
X-WR-CALDESC:Veranstaltungen für Rellinger Turnverein
BEGIN:VTIMEZONE
TZID:Europe/Berlin
BEGIN:DAYLIGHT
TZOFFSETFROM:+0100
TZOFFSETTO:+0200
TZNAME:CEST
DTSTART:20220327T010000
END:DAYLIGHT
BEGIN:STANDARD
TZOFFSETFROM:+0200
TZOFFSETTO:+0100
TZNAME:CET
DTSTART:20221030T010000
END:STANDARD
END:VTIMEZONE
BEGIN:VEVENT
DTSTART;TZID=Europe/Berlin:20220223T190000
DTEND;TZID=Europe/Berlin:20220223T213000
DTSTAMP:20260422T044100
CREATED:20211215T112200Z
LAST-MODIFIED:20220217T151220Z
UID:10174-1645642800-1645651800@rellinger-turnverein.de
SUMMARY:Beiratssitzung
DESCRIPTION:Wir laden alle Mitglieder des Beirates sehr herzlich zur Sitzung am Mittwoch\, 23. Februar 2022 um 19.00 Uhr in den Saal im RTV-Turnerheim ein. Die Tagesordnung wird per Mail an alle versendet.
URL:https://rellinger-turnverein.de/termin/beiratssitzung-2/
LOCATION:Festsaal im RTV-Turnerheim\, Hohle Straße 14\, Rellingen\, Schleswig-Holstein\, 25462\, Deutschland
ATTACH;FMTTYPE=image/jpeg:https://rellinger-turnverein.de/wp-content/uploads/2021/12/event_sitzung_114x80jpg.jpg
ORGANIZER;CN="Rellinger%20Turnverein%20von%201900%20e.V.":MAILTO:info@rellinger-turnverein.de
END:VEVENT
END:VCALENDAR