BEGIN:VCALENDAR
VERSION:2.0
PRODID:-//Rellinger Turnverein - ECPv5.9.1//NONSGML v1.0//EN
CALSCALE:GREGORIAN
METHOD:PUBLISH
X-WR-CALNAME:Rellinger Turnverein
X-ORIGINAL-URL:https://rellinger-turnverein.de
X-WR-CALDESC:Veranstaltungen für Rellinger Turnverein
BEGIN:VTIMEZONE
TZID:Europe/Berlin
BEGIN:DAYLIGHT
TZOFFSETFROM:+0100
TZOFFSETTO:+0200
TZNAME:CEST
DTSTART:20230326T010000
END:DAYLIGHT
BEGIN:STANDARD
TZOFFSETFROM:+0200
TZOFFSETTO:+0100
TZNAME:CET
DTSTART:20231029T010000
END:STANDARD
END:VTIMEZONE
BEGIN:VEVENT
DTSTART;TZID=Europe/Berlin:20230923T143000
DTEND;TZID=Europe/Berlin:20230923T150000
DTSTAMP:20260421T180203
CREATED:20230909T082101Z
LAST-MODIFIED:20230909T082328Z
UID:13688-1695479400-1695481200@rellinger-turnverein.de
SUMMARY:Apfelfest: Auftritt Kindertanz
DESCRIPTION:Zusammen  mit einigen Kindern aus der WABE (Kooperation Kita) und aus den Kinderturn- und Tanzgruppen unserer Trainerin Simone\, gibt es am 23. September 2023 um 14.30 Uhr einen kleinen Auftritt auf dem Apfelfest.
URL:https://rellinger-turnverein.de/termin/apfelfest-auftritt-kindertanz/
LOCATION:Arkadenhof Rellingen\, Am Rathausplatz\, Rellingen\, Schleswig-Holstein\, 25462\, Deutschland
ATTACH;FMTTYPE=image/jpeg:https://rellinger-turnverein.de/wp-content/uploads/2023/09/apfelfest.jpg
END:VEVENT
END:VCALENDAR